BEGIN:VCALENDAR
VERSION:2.0
PRODID:-//InvisionCommunity Events 5.0.18//EN
METHOD:PUBLISH
CALSCALE:GREGORIAN
REFRESH-INTERVAL:PT15M
X-PUBLISHED-TTL:PT15M
X-WR-CALNAME:Northern Ireland
NAME:Northern Ireland
BEGIN:VTIMEZONE
TZID:Europe/London
TZURL:https://tzurl.org/zoneinfo/Europe/London
X-LIC-LOCATION:Europe/London
BEGIN:DAYLIGHT
TZOFFSETFROM:+0000
TZOFFSETTO:+0100
TZNAME:BST
DTSTART:20240331T020000Z
RRULE:FREQ=YEARLY;BYMONTH=3;BYDAY=-1SU
END:DAYLIGHT
BEGIN:STANDARD
TZOFFSETFROM:+0100
TZOFFSETTO:+0000
TZNAME:GMT
DTSTART:20241027T020000Z
RRULE:FREQ=YEARLY;BYMONTH=10;BYDAY=-1SU
END:STANDARD
END:VTIMEZONE
BEGIN:VEVENT
SUMMARY:Christmas Wreath making
DTSTAMP:20241202T155847Z
SEQUENCE:0
UID:9011-29-0712e666d78c35a5e0181a336d457050@bn.org.uk
ORGANIZER;CN="Kev.oconnor":notifications@bn.org.uk
DESCRIPTION:\n	Christmas Wreath Making\n	Saturday 14th DECEMBER\n	2pm to
	 6pm\n	40 Cloughwater Road\n	Ballymena\n	BT43 6SY\n	This will take place a
	fter our Christmas Party\n	The cost of this will be payable on the day to 
	cover the Oasis Ring (around £10-£12) and you are encouraged to collect 
	holly/ivy/mistletoe etc to bring on the day to share with others\n	 \n\n
DTSTART:20241214T140000Z
DTEND:20241214T180000Z
END:VEVENT
END:VCALENDAR
