BEGIN:VCALENDAR
VERSION:2.0
PRODID:-//InvisionCommunity Events 5.0.18//EN
METHOD:PUBLISH
CALSCALE:GREGORIAN
REFRESH-INTERVAL:PT15M
X-PUBLISHED-TTL:PT15M
X-WR-CALNAME:North West
NAME:North West
BEGIN:VTIMEZONE
TZID:Europe/London
TZURL:https://tzurl.org/zoneinfo/Europe/London
X-LIC-LOCATION:Europe/London
BEGIN:DAYLIGHT
TZOFFSETFROM:+0000
TZOFFSETTO:+0100
TZNAME:BST
DTSTART:20250330T020000Z
RRULE:FREQ=YEARLY;BYMONTH=3;BYDAY=-1SU
END:DAYLIGHT
BEGIN:STANDARD
TZOFFSETFROM:+0100
TZOFFSETTO:+0000
TZNAME:GMT
DTSTART:20251026T020000Z
RRULE:FREQ=YEARLY;BYMONTH=10;BYDAY=-1SU
END:STANDARD
END:VTIMEZONE
BEGIN:VEVENT
SUMMARY:CWM Weeg Gardens Naked Heart Walk
DTSTAMP:20241125T181652Z
SEQUENCE:0
UID:8987-5-0712e666d78c35a5e0181a336d457050@bn.org.uk
ORGANIZER;CN="administrator":notifications@bn.org.uk
DESCRIPTION:\nA Naked Heart Walk around the fabulous Gardens of CWM Weeg
	 in Mid WalesFor precise location use W3W - skinning.grin.processorA Naked
	 Heart Walk around the fabulous Gardens of CWM Weeg in Mid WalesCome and j
	oin us for a Naked Heart Walk around the fabulous Gardens of CWM Weeg in M
	id Wales. This was a new venue added for our Naked Heart Walks in 2024 so 
	we now have the pleasure of repeating the event this year. It really is am
	azing and the location is in a fabulous region in beautiful Mid Wales.The 
	event is clothes optional - this to enable non Naturist partners and newbi
	es to join us. The welcoming owners have promised a piece of cake and a dr
	ink to be included in the ticket price. Sandals or trainers are the recomm
	ended footwear for this iconic Naked Heart Walk.Should you wish to set up 
	a 'Just Giving' page which is directly linked to the British Heart Foundat
	ion\, here is the link....- www.justgiving.com/create-page?charityID=18309
	2&campaignGUID=ed1219df-965a-4bcd-98a0-1d6c71faf724&eventId=8875569&amp\;Y
	our free Fundraising Pack should you prefer one.\n\n	Tickets for this even
	t are sold through Eventbrite. You will be able to purchase tickets from E
	ventbrite by following the link below:\n	https://www.eventbrite.co.uk/e/cw
	m-weeg-gardens-naked-heart-walk-tickets-1095398419159\n\n
DTSTART:20250705T130000Z
DTEND:20250705T160000Z
END:VEVENT
END:VCALENDAR
