BEGIN:VCALENDAR
VERSION:2.0
PRODID:-//InvisionCommunity Events 5.0.18//EN
METHOD:PUBLISH
CALSCALE:GREGORIAN
REFRESH-INTERVAL:PT15M
X-PUBLISHED-TTL:PT15M
X-WR-CALNAME:North West
NAME:North West
BEGIN:VTIMEZONE
TZID:Europe/London
TZURL:https://tzurl.org/zoneinfo/Europe/London
X-LIC-LOCATION:Europe/London
BEGIN:DAYLIGHT
TZOFFSETFROM:+0000
TZOFFSETTO:+0100
TZNAME:BST
DTSTART:20250330T020000Z
RRULE:FREQ=YEARLY;BYMONTH=3;BYDAY=-1SU
END:DAYLIGHT
BEGIN:STANDARD
TZOFFSETFROM:+0100
TZOFFSETTO:+0000
TZNAME:GMT
DTSTART:20251026T020000Z
RRULE:FREQ=YEARLY;BYMONTH=10;BYDAY=-1SU
END:STANDARD
END:VTIMEZONE
BEGIN:VEVENT
SUMMARY:Dorothy Clive Gardens Naked Heart Walk
DTSTAMP:20241125T181946Z
SEQUENCE:0
UID:8986-5-0712e666d78c35a5e0181a336d457050@bn.org.uk
ORGANIZER;CN="administrator":notifications@bn.org.uk
DESCRIPTION:\nEvening Naked Heart Walk through the various paths that cr
	isscross these beautiful and fascinating Gardens. This event is clothes-op
	tionalFor the precise location use W3W - nuggets.goodbyes.clippedAn evenin
	g Naked Heart Walk through the various paths that crisscross these beautif
	ul and fascinating Gardens. This event is clothes optional to include part
	ners who are not yet Naturists. Snacks and drinks will be available to pur
	chase on the day..Please note: We recommend that Naturists leave their clo
	thes in their cars. Refreshments can be purchased by cash only.This event 
	is part of our fundraising campaign for the British Heart Foundation.By ba
	cking the brightest scientific minds\, we have the power to find treatment
	s and cures that could make the difference between your parents living to 
	old age or not\, your friend making it to graduation or not\, your sister 
	being a phone call away or not.This event is a bold one\, just like our am
	bition to fund the science that keeps millions of hearts beating. From the
	 bottom of our hearts\, thank you for signing up for this Naked Heart Walk
	 and fundraising. There will be a collection for British Heart Foundation 
	on the day. Contributions are completely optional.Postcode:TF9 4EU / What3
	Words northward.piper.basherShould you wish to set up a 'Just Giving' page
	 which is directly linked to the British Heart Foundation\, here is the li
	nk....- www.justgiving.com/create-page?charityID=183092&campaignGUID=ed121
	9df-965a-4bcd-98a0-1d6c71faf724&eventId=8875571&amp\;\n\n	Tickets for this
	 event are sold through Eventbrite. You will be able to purchase tickets f
	rom Eventbrite by following the link below:\n	https://www.eventbrite.co.uk
	/e/dorothy-clive-gardens-naked-heart-walk-tickets-1095403694939\n\n
DTSTART:20250813T170000Z
DTEND:20250813T193000Z
END:VEVENT
END:VCALENDAR
