BEGIN:VCALENDAR
VERSION:2.0
PRODID:-//InvisionCommunity Events 5.0.18//EN
METHOD:PUBLISH
CALSCALE:GREGORIAN
REFRESH-INTERVAL:PT15M
X-PUBLISHED-TTL:PT15M
X-WR-CALNAME:North West
NAME:North West
BEGIN:VTIMEZONE
TZID:Europe/London
TZURL:https://tzurl.org/zoneinfo/Europe/London
X-LIC-LOCATION:Europe/London
BEGIN:DAYLIGHT
TZOFFSETFROM:+0000
TZOFFSETTO:+0100
TZNAME:BST
DTSTART:20250330T020000Z
RRULE:FREQ=YEARLY;BYMONTH=3;BYDAY=-1SU
END:DAYLIGHT
BEGIN:STANDARD
TZOFFSETFROM:+0100
TZOFFSETTO:+0000
TZNAME:GMT
DTSTART:20251026T020000Z
RRULE:FREQ=YEARLY;BYMONTH=10;BYDAY=-1SU
END:STANDARD
END:VTIMEZONE
BEGIN:VEVENT
SUMMARY:Water's Edge Naked Heart Walk\, Bishampton
DTSTAMP:20241125T181817Z
SEQUENCE:0
UID:8983-5-0712e666d78c35a5e0181a336d457050@bn.org.uk
ORGANIZER;CN="administrator":notifications@bn.org.uk
DESCRIPTION:\nA Naked Heart Walk taking in surroundings of the lake and 
	countryside.For the precise location use W3W - encoding.thickened.flickers
	A Naked Heart Walk taking in surroundings of the lake and countryside with
	 an optional skinny dip organised by the venue's staff on the day at no ex
	tra cost. This is a shorter walk than usual\, but it can be repeated more 
	than once. It is however\, a great chance to socialise clothes free with l
	ike minded people in a fabulous location whilst raising funds for the Brit
	ish Heart Foundation. There is an onsite cafe that sells Snacks and drinks
	.The What3Words for this locaion is: rumbles.chugging.tryingShould you wis
	h to set up a 'Just Giving' page which is directly linked to the British H
	eart Foundation\, here is the link....www.justgiving.com/create-page?chari
	tyID=183092&campaignGUID=ed1219df-965a-4bcd-98a0-1d6c71faf724&eventId=8875
	570&amp\;\n\n	Tickets for this event are sold through Eventbrite. You will
	 be able to purchase tickets from Eventbrite by following the link below:\
	n	https://www.eventbrite.co.uk/e/waters-edge-naked-heart-walk-bishampton-t
	ickets-1095399161379\n\n
DTSTART:20250727T150000Z
DTEND:20250727T180000Z
END:VEVENT
END:VCALENDAR
