BEGIN:VCALENDAR
VERSION:2.0
PRODID:-//InvisionCommunity Events 5.0.18//EN
METHOD:PUBLISH
CALSCALE:GREGORIAN
REFRESH-INTERVAL:PT15M
X-PUBLISHED-TTL:PT15M
X-WR-CALNAME:North West
NAME:North West
BEGIN:VTIMEZONE
TZID:Europe/London
TZURL:https://tzurl.org/zoneinfo/Europe/London
X-LIC-LOCATION:Europe/London
BEGIN:DAYLIGHT
TZOFFSETFROM:+0000
TZOFFSETTO:+0100
TZNAME:BST
DTSTART:20250330T020000Z
RRULE:FREQ=YEARLY;BYMONTH=3;BYDAY=-1SU
END:DAYLIGHT
BEGIN:STANDARD
TZOFFSETFROM:+0100
TZOFFSETTO:+0000
TZNAME:GMT
DTSTART:20251026T020000Z
RRULE:FREQ=YEARLY;BYMONTH=10;BYDAY=-1SU
END:STANDARD
END:VTIMEZONE
BEGIN:VEVENT
SUMMARY:Wigton GBSD
DTSTAMP:20241104T205220Z
SEQUENCE:0
UID:8953-5-0712e666d78c35a5e0181a336d457050@bn.org.uk
ORGANIZER;CN="Ron.O":notifications@bn.org.uk
DESCRIPTION:\n	A Monthly Skinny Dip at the Wigton Pool Cumbria.\n\n\n\n	
	The New &amp\; Only directions for the Wigton Swim - Follow the Arrows fro
	m High Street.\n\n\n\n	PLEASE NOTE: NEW TIME SLOT - 13.30 -15.00.\n\n\n\n	
	Please note: Bookings for this swim are advised because of capacity limit
	ations.\n\n\n\n	Phone Wigton Pool to book: 01697 342412\n\n\n\n	Follow thi
	s event on NW News online.\n\n\n\n	Always the second Saturday of the Month
	.\n\n\n\n	Come and join us for a Naturist Swim at Cumbria's only all year 
	round Naturist Swimming facility.\n\n\n\n	Please bring photo I.D. and proo
	f of address for your first visit.\n\n\n\n	All genuine Naturists are welco
	me!\n\n\n\n	\n\n
DTSTART:20250412T123000Z
DTEND:20250412T140000Z
END:VEVENT
END:VCALENDAR
