BEGIN:VCALENDAR
VERSION:2.0
PRODID:-//InvisionCommunity Events 5.0.18//EN
METHOD:PUBLISH
CALSCALE:GREGORIAN
REFRESH-INTERVAL:PT15M
X-PUBLISHED-TTL:PT15M
X-WR-CALNAME:North West
NAME:North West
BEGIN:VTIMEZONE
TZID:Europe/London
TZURL:https://tzurl.org/zoneinfo/Europe/London
X-LIC-LOCATION:Europe/London
BEGIN:DAYLIGHT
TZOFFSETFROM:+0000
TZOFFSETTO:+0100
TZNAME:BST
DTSTART:20250330T020000Z
RRULE:FREQ=YEARLY;BYMONTH=3;BYDAY=-1SU
END:DAYLIGHT
BEGIN:STANDARD
TZOFFSETFROM:+0100
TZOFFSETTO:+0000
TZNAME:GMT
DTSTART:20251026T020000Z
RRULE:FREQ=YEARLY;BYMONTH=10;BYDAY=-1SU
END:STANDARD
END:VTIMEZONE
BEGIN:VEVENT
SUMMARY:Shap Lido GBSD
DTSTAMP:20241018T182414Z
SEQUENCE:0
UID:8921-5-0712e666d78c35a5e0181a336d457050@bn.org.uk
ORGANIZER;CN="Ron.O":notifications@bn.org.uk
DESCRIPTION:Please Note - reduced price: £10PPAfter three years of succ
	essful GBSD events at the fantastic Shap Lido - we are repeating the even
	ts again on a monthly basis from June to September. All 4 events are hoste
	d by the Venue\, so  the booking details are here These GBSD events are
	 held on the 1st Tuesday of each month. 6-8 pm - everyone welcome.The last
	 Swim in 2025 is Tuesday 2nd September 6-7.30pm.The Pool is heated to 28cE
	nquiries welcome – ron.ohare@bn.org.ukThinking of joining British Naturi
	sm?  More details here
DTSTART:20250805T170000Z
DTEND:20250805T183000Z
END:VEVENT
END:VCALENDAR
