BEGIN:VCALENDAR
VERSION:2.0
PRODID:-//InvisionCommunity Events 5.0.18//EN
METHOD:PUBLISH
CALSCALE:GREGORIAN
REFRESH-INTERVAL:PT15M
X-PUBLISHED-TTL:PT15M
X-WR-CALNAME:London and South East (LASER)
NAME:London and South East (LASER)
BEGIN:VTIMEZONE
TZID:Europe/London
TZURL:https://tzurl.org/zoneinfo/Europe/London
X-LIC-LOCATION:Europe/London
BEGIN:DAYLIGHT
TZOFFSETFROM:+0000
TZOFFSETTO:+0100
TZNAME:BST
DTSTART:20250330T020000Z
RRULE:FREQ=YEARLY;BYMONTH=3;BYDAY=-1SU
END:DAYLIGHT
BEGIN:STANDARD
TZOFFSETFROM:+0100
TZOFFSETTO:+0000
TZNAME:GMT
DTSTART:20251026T020000Z
RRULE:FREQ=YEARLY;BYMONTH=10;BYDAY=-1SU
END:STANDARD
END:VTIMEZONE
BEGIN:VEVENT
SUMMARY:ESN swim at Seaford
DTSTAMP:20241009T162230Z
SEQUENCE:0
UID:8901-7-0712e666d78c35a5e0181a336d457050@bn.org.uk
ORGANIZER;CN="alanpeill1951":notifications@bn.org.uk
DESCRIPTION:\n	\n\n\n\n	 \n\n\n\n	Please join us at our Sunday afternoo
	n swim\, 14.45-15.45.\n\n\n\n	This event is organised by East Sussex Natur
	ists\, a BN club which hosts various indoor and outdoor events throughout 
	the year at which visitors are most welcome. There is an accessible route 
	to poolside and a pool-lift is available.\n\n\n\n	Our events are for membe
	rs and invited visitors and\, if you are new to naturism\, your first visi
	t is free. Please bring with you a form of  photo-ID  to confirm your ad
	dress. This ensures that events attract only naturists. We are a member cl
	ub of British Naturism so please let us know your BN membership number i
	f you are a BN member. Swim price to members is £7 per person and our a
	nnual membership is £20. See our website https://eastsussexnaturists.co
	m or call the Secretary on 07486 424068.\n\n\n\n	Seaford Head Pool\, Sut
	ton Avenue\, Seaford\, East Sussex BN25 4LX\n\n\n\n	\n\n
DTSTART:20250105T144500Z
DTEND:20250105T154500Z
END:VEVENT
END:VCALENDAR
