BEGIN:VCALENDAR
VERSION:2.0
PRODID:-//InvisionCommunity Events 5.0.18//EN
METHOD:PUBLISH
CALSCALE:GREGORIAN
REFRESH-INTERVAL:PT15M
X-PUBLISHED-TTL:PT15M
X-WR-CALNAME:North West
NAME:North West
BEGIN:VTIMEZONE
TZID:Europe/London
TZURL:https://tzurl.org/zoneinfo/Europe/London
X-LIC-LOCATION:Europe/London
BEGIN:DAYLIGHT
TZOFFSETFROM:+0000
TZOFFSETTO:+0100
TZNAME:BST
DTSTART:20240331T020000Z
RRULE:FREQ=YEARLY;BYMONTH=3;BYDAY=-1SU
END:DAYLIGHT
BEGIN:STANDARD
TZOFFSETFROM:+0100
TZOFFSETTO:+0000
TZNAME:GMT
DTSTART:20241027T020000Z
RRULE:FREQ=YEARLY;BYMONTH=10;BYDAY=-1SU
END:STANDARD
END:VTIMEZONE
BEGIN:VEVENT
SUMMARY:Withington Pool GBSD Event
DTSTAMP:20240912T174437Z
SEQUENCE:0
UID:8877-5-0712e666d78c35a5e0181a336d457050@bn.org.uk
ORGANIZER;CN="Ron.O":notifications@bn.org.uk
DESCRIPTION:\n	Withington Pool GBSD with Sauna. \n\n\n\n	To join our ne
	w WhatsApp group just send your full name &amp\; number to Ron 0776187567
	5.\n\n\n\n	Sunday 15th December from 18.00 to 19.30. Tickets @ £10pp can
	 be purchased via the BN Shop \n\n\n\n	A 'sign in' may be required - so ju
	st create a shop account. BN Membership is not required to do this.\n\n\n\
	n	Burton Road\, Withington\, Manchester. M20 3EB.\n\n\n\n	Mailto: ron.ohar
	e@bn.org.uk - Mobile: 07761875675. \n\n\n\n	This event is for Over 18s onl
	y\n\n\n\n	www.greatbritishskinnydip.co.uk\n\n\n\n	\n\n
DTSTART:20241215T180000Z
DTEND:20241215T193000Z
END:VEVENT
END:VCALENDAR
