BEGIN:VCALENDAR
VERSION:2.0
PRODID:-//InvisionCommunity Events 5.0.18//EN
METHOD:PUBLISH
CALSCALE:GREGORIAN
REFRESH-INTERVAL:PT15M
X-PUBLISHED-TTL:PT15M
X-WR-CALNAME:South West
NAME:South West
BEGIN:VTIMEZONE
TZID:Europe/London
TZURL:https://tzurl.org/zoneinfo/Europe/London
X-LIC-LOCATION:Europe/London
BEGIN:DAYLIGHT
TZOFFSETFROM:+0000
TZOFFSETTO:+0100
TZNAME:BST
DTSTART:20240331T020000Z
RRULE:FREQ=YEARLY;BYMONTH=3;BYDAY=-1SU
END:DAYLIGHT
BEGIN:STANDARD
TZOFFSETFROM:+0100
TZOFFSETTO:+0000
TZNAME:GMT
DTSTART:20241027T020000Z
RRULE:FREQ=YEARLY;BYMONTH=10;BYDAY=-1SU
END:STANDARD
END:VTIMEZONE
BEGIN:VEVENT
SUMMARY:Nudie Dudie Swim
DTSTAMP:20240912T074409Z
SEQUENCE:0
UID:8870-4-0712e666d78c35a5e0181a336d457050@bn.org.uk
ORGANIZER;CN="Sunshinekid":notifications@bn.org.uk
DESCRIPTION:\n	Nudie Dudie Swim \n\n\n\n	Sunday 15th December 2024\n\n
	\n\n	Swim time 3.30 to 4.30pm\n\n\n\n	Ham Lane East\, Llantwit Major CF61 
	1TQ\n\n\n\n	Please Confirm with Andy 07817773479\n\n\n\n	Please bring some
	 id if it’s your 1st time.\n\n
DTSTART:20241215T153000Z
DTEND:20241215T163000Z
ATTENDEE;CN="Andy9313";CUTYPE=INDIVIDUAL;PARTSTAT=ACCEPTED:n
	otifications@bn.org.uk
END:VEVENT
END:VCALENDAR
