BEGIN:VCALENDAR
VERSION:2.0
PRODID:-//InvisionCommunity Events 5.0.18//EN
METHOD:PUBLISH
CALSCALE:GREGORIAN
REFRESH-INTERVAL:PT15M
X-PUBLISHED-TTL:PT15M
X-WR-CALNAME:London and South East (LASER)
NAME:London and South East (LASER)
BEGIN:VTIMEZONE
TZID:Europe/London
TZURL:https://tzurl.org/zoneinfo/Europe/London
X-LIC-LOCATION:Europe/London
BEGIN:DAYLIGHT
TZOFFSETFROM:+0000
TZOFFSETTO:+0100
TZNAME:BST
DTSTART:20240331T020000Z
RRULE:FREQ=YEARLY;BYMONTH=3;BYDAY=-1SU
END:DAYLIGHT
BEGIN:STANDARD
TZOFFSETFROM:+0100
TZOFFSETTO:+0000
TZNAME:GMT
DTSTART:20241027T020000Z
RRULE:FREQ=YEARLY;BYMONTH=10;BYDAY=-1SU
END:STANDARD
END:VTIMEZONE
BEGIN:VEVENT
SUMMARY:Tandridge loop from Hurst Green Station
DTSTAMP:20240901T174418Z
SEQUENCE:0
UID:8845-7-0712e666d78c35a5e0181a336d457050@bn.org.uk
ORGANIZER;CN="mike_fernlea":notifications@bn.org.uk
DESCRIPTION:\n	All\n\n\n\n	We have one more SE walk planned for this yea
	r before the weather turns too cold. This one is called the Tandridge Loop
	. We'll aim to meet at Hurst Green train station at 11:00am. The train fro
	m London arrives at 10:39 and the northbound train from Uckfield arrives a
	t 10:53\n\n\n\n	The walk is roughly 13km or 8 miles in length\n\n\n\n	Park
	ing is available in the station car park and it operated by Apcoa\n\n\n\n	
	The walk will be led by Phil Harris who can be reached on the day on 07711
	 640060. I can be contacted on 07958 750139\n\n\n\n	Best Regards\n\n\n\n	M
	ike\n\n
DTSTART:20240920T100000Z
ATTENDEE;CN="andrew_g";CUTYPE=INDIVIDUAL;PARTSTAT=ACCEPTED:n
	otifications@bn.org.uk
ATTENDEE;CN="john.kendrick";CUTYPE=INDIVIDUAL;PARTSTAT=ACCEP
	TED:notifications@bn.org.uk
ATTENDEE;CN="AndynPatti";CUTYPE=INDIVIDUAL;PARTSTAT=ACCEPTED
	:notifications@bn.org.uk
END:VEVENT
END:VCALENDAR
