BEGIN:VCALENDAR
VERSION:2.0
PRODID:-//InvisionCommunity Events 5.0.18//EN
METHOD:PUBLISH
CALSCALE:GREGORIAN
REFRESH-INTERVAL:PT15M
X-PUBLISHED-TTL:PT15M
X-WR-CALNAME:South West
NAME:South West
BEGIN:VTIMEZONE
TZID:Europe/London
TZURL:https://tzurl.org/zoneinfo/Europe/London
X-LIC-LOCATION:Europe/London
BEGIN:DAYLIGHT
TZOFFSETFROM:+0000
TZOFFSETTO:+0100
TZNAME:BST
DTSTART:20240331T020000Z
RRULE:FREQ=YEARLY;BYMONTH=3;BYDAY=-1SU
END:DAYLIGHT
BEGIN:STANDARD
TZOFFSETFROM:+0100
TZOFFSETTO:+0000
TZNAME:GMT
DTSTART:20241027T020000Z
RRULE:FREQ=YEARLY;BYMONTH=10;BYDAY=-1SU
END:STANDARD
END:VTIMEZONE
BEGIN:VEVENT
SUMMARY:Naked Quiz & Social Evening - central Bournemouth
DTSTAMP:20240801T135104Z
SEQUENCE:0
UID:8823-4-0712e666d78c35a5e0181a336d457050@bn.org.uk
ORGANIZER;CN="kitoff":notifications@bn.org.uk
DESCRIPTION:\n	\n\n\n\n	\n		Join us for something a little different: a 
	naked quiz and social evening in a modern\, vibrant and well-regarded caf
	é-bar in the Triangle\, adjacent to the central library. #6 on TripAdviso
	r and 5* food hygiene rating. \n	\n\n\n\n	\n		Ticket holders will be welc
	omed from 7pm. A changing area with coat racks will be provided: please 
	bring a towel on which to sit. Windows will be covered and there will be
	 door security to ensure privacy. \n	\n\n\n\n	\n		The cover charge for en
	try to the event and the quiz includes a welcome drink (choice of bottled 
	beers\, 175ml glass of house red\, white or rose wine\, soft drink or any
	 hot drink)\n	\n\n\n\n	\n		The kitchen and bar will be open for those want
	ing to eat and drink. It will be the normal evening menu with vegetarian\,
	 vegan and gluten-free options plus a special hot dish (links below). You
	 don't have to eat if you don't want to: it will be normal counter service
	 and pay-as-you-go\, after the initial welcome drink. \n	\n\n\n\n	\n		\n	
			\n				\n					\n						\n							\n								 \n							\n						\n					\n				
		\n						\n							\n								\n									\n										\n											\n								
					\n													Our menu | FLIRT Cafe Bournemouth\n												\n\n				
									\n													flirtwithus.co.uk\n												\n											\n					
						\n									\n								\n							\n						\n					\n				\n			\n		\n	\n\n\n
	\n	\n		The quiz will start c.8pm and is designed to be fun and informal. T
	he venue has a successful track record of organising quiz evenings and oth
	er social events. \n	\n\n\n\n	\n		£15 per head\, including quiz and drin
	k upon arrival. Members and non-members welcome\, but tickets must be purc
	hased in advance. \n	\n\n\n\n	\n		Tickets available from the BN Shop at:\
	n	\n\n	\n		https://shop.bn.org.uk/collections/naturist-garden-days/product
	s/19-october-2024-naked-quiz-social-evening\n\n		 \n	\n\n	\n		Any queries
	 to howard.dymock@bn.org.ukrather than the venue\, please. \n	\n\n
DTSTART:20241019T180000Z
DTEND:20241019T210000Z
END:VEVENT
END:VCALENDAR
