BEGIN:VCALENDAR
VERSION:2.0
PRODID:-//InvisionCommunity Events 5.0.18//EN
METHOD:PUBLISH
CALSCALE:GREGORIAN
REFRESH-INTERVAL:PT15M
X-PUBLISHED-TTL:PT15M
X-WR-CALNAME:South West
NAME:South West
BEGIN:VTIMEZONE
TZID:Europe/London
TZURL:https://tzurl.org/zoneinfo/Europe/London
X-LIC-LOCATION:Europe/London
BEGIN:DAYLIGHT
TZOFFSETFROM:+0000
TZOFFSETTO:+0100
TZNAME:BST
DTSTART:20240331T020000Z
RRULE:FREQ=YEARLY;BYMONTH=3;BYDAY=-1SU
END:DAYLIGHT
BEGIN:STANDARD
TZOFFSETFROM:+0100
TZOFFSETTO:+0000
TZNAME:GMT
DTSTART:20241027T020000Z
RRULE:FREQ=YEARLY;BYMONTH=10;BYDAY=-1SU
END:STANDARD
END:VTIMEZONE
BEGIN:VEVENT
SUMMARY:Ladies only Clothing Optional Afternoon | Naturally Slad
DTSTAMP:20240801T134224Z
SEQUENCE:0
UID:8822-4-0712e666d78c35a5e0181a336d457050@bn.org.uk
ORGANIZER;CN="Alana":notifications@bn.org.uk
DESCRIPTION:\n	Join Us for a Ladies-Only Clothing Optional Afternoon Tea
	 to Support Cancer Research!\n\n\n\n	Naturally Slad\, Relaxation as Natur
	e Intended\, and British Naturism are delighted to invite you to a speci
	al Ladies-Only Clothing Optional Afternoon Tea in aid of Cancer Research.\
	n\n\n\n	Event Details:\n\n\n\n	\n		Date: Saturday\, 31st August 2024\n	\n
		\n		Time: 1 PM to 5 PM\n	\n	\n		Location: Naturally Slad\n	\n\n\n\n	Eve
	nt Highlights:\n\n\n\n	\n		Indulge in a delightful afternoon tea with pros
	ecco.\n	\n	\n		Enjoy the use of a hot tub\, sauna\, and pool.\n	\n	\n		Exp
	erience ultimate relaxation in a supportive and empowering environment.\n	
	\n\n\n\n	Cost: Just £18 per person\n\n\n\n	Why Attend? British Naturi
	sm’s Women’s Officer\, Helen Berriman\, emphasises that together\, wom
	en are stronger. It’s more than just an afternoon tea\, it’s about cel
	ebrating our uniqueness\, developing friendships all the while raising awa
	reness and money for Cancer Research.\n\n\n\n	Join us for an afternoon of 
	relaxation\, connection\, and support for a great cause. Celebrate natural
	 beauty and wellness while contributing to the fight against cancer.\n\n\n
	\n	For more information and to book your place\, click here: https://shop
	.bn.org.uk/collections/local-naturist-events/products/31-august-2024-ladie
	s-only-clothing-optional-afternoon-naturally-slad\n\n\n\n	 \n\n\n\n	We lo
	ok forward to welcoming you to this special event!\n\n
DTSTART:20240831T120000Z
DTEND:20240831T160000Z
END:VEVENT
END:VCALENDAR
