BEGIN:VCALENDAR
VERSION:2.0
PRODID:-//InvisionCommunity Events 5.0.18//EN
METHOD:PUBLISH
CALSCALE:GREGORIAN
REFRESH-INTERVAL:PT15M
X-PUBLISHED-TTL:PT15M
X-WR-CALNAME:Eastern
NAME:Eastern
BEGIN:VTIMEZONE
TZID:Europe/London
TZURL:https://tzurl.org/zoneinfo/Europe/London
X-LIC-LOCATION:Europe/London
BEGIN:DAYLIGHT
TZOFFSETFROM:+0000
TZOFFSETTO:+0100
TZNAME:BST
DTSTART:20260329T020000Z
RRULE:FREQ=YEARLY;BYMONTH=3;BYDAY=-1SU
END:DAYLIGHT
BEGIN:STANDARD
TZOFFSETFROM:+0100
TZOFFSETTO:+0000
TZNAME:GMT
DTSTART:20261025T020000Z
RRULE:FREQ=YEARLY;BYMONTH=10;BYDAY=-1SU
END:STANDARD
END:VTIMEZONE
BEGIN:VEVENT
SUMMARY:Great Offley Naturist Walk
DTSTAMP:20240723T210549Z
SEQUENCE:0
UID:8807-8-0712e666d78c35a5e0181a336d457050@bn.org.uk
ORGANIZER;CN="Andrew Roch":notifications@bn.org.uk
DESCRIPTION:Join us for this beautiful 7 mile circular walk from a new l
	ocation - Great Offley in North Hertfordshire (between Luton and Hitchin).
	 The walk involves a few noticeable hills with open views mixed in with an
	cient sunken tracks and neighbouring woodlands.  The terrain is mostly we
	ll made up tracks and wide headlands\, with one short section across-field
	.   Parking will be on the road within the village\, so please car share
	 where possible.Fir further information please email on easternwalks@bn.or
	g.uk giving your name and mobile number that can be used on the day of the
	 event. To register for the walk please complete the form which can be fou
	nd here. (If you are unable to complete the form please email me with your
	 name and mobile number.)Register Here
DTSTART:20260725T113000Z
END:VEVENT
END:VCALENDAR
