BEGIN:VCALENDAR
VERSION:2.0
PRODID:-//InvisionCommunity Events 5.0.18//EN
METHOD:PUBLISH
CALSCALE:GREGORIAN
REFRESH-INTERVAL:PT15M
X-PUBLISHED-TTL:PT15M
X-WR-CALNAME:London and South East (LASER)
NAME:London and South East (LASER)
BEGIN:VTIMEZONE
TZID:Europe/London
TZURL:https://tzurl.org/zoneinfo/Europe/London
X-LIC-LOCATION:Europe/London
BEGIN:DAYLIGHT
TZOFFSETFROM:+0000
TZOFFSETTO:+0100
TZNAME:BST
DTSTART:20240331T020000Z
RRULE:FREQ=YEARLY;BYMONTH=3;BYDAY=-1SU
END:DAYLIGHT
BEGIN:STANDARD
TZOFFSETFROM:+0100
TZOFFSETTO:+0000
TZNAME:GMT
DTSTART:20241027T020000Z
RRULE:FREQ=YEARLY;BYMONTH=10;BYDAY=-1SU
END:STANDARD
END:VTIMEZONE
BEGIN:VEVENT
SUMMARY:Cockney Sing-A-Long
DTSTAMP:20240722T181540Z
SEQUENCE:0
UID:8803-7-0712e666d78c35a5e0181a336d457050@bn.org.uk
ORGANIZER;CN="alanpeill1951":notifications@bn.org.uk
DESCRIPTION:\n	\n\n	Come along this Friday (26th July) to a naked pub ev
	ening at the Green Duck\, 53 Grosvenor Road\, Tunbridge Wells. TN1 2AY. Th
	e pianist is naked too and we will be singing (if that's not too grand a w
	ord for it !) along to all the old favourite songs from way back and more 
	recently too. A food platter is available if you book a ticket through the
	 link below with drinks available at the bar. Limited number of tickets av
	ailable so please book now. This is about the fourth time this event has h
	appened and it really is great  fun every time. Begins 7.00p.m. ends 10.0
	0 p.m. Contact Keith on 07798 861467 or keithpalmer17@yahoo.com if further
	 information wanted. See you there !\n\n\n\n	              
	                                     
	                                           
	                   Book Here\n\n
DTSTART:20240726T180000Z
DTEND:20240726T210000Z
END:VEVENT
END:VCALENDAR
