BEGIN:VCALENDAR
VERSION:2.0
PRODID:-//InvisionCommunity Events 5.0.18//EN
METHOD:PUBLISH
CALSCALE:GREGORIAN
REFRESH-INTERVAL:PT15M
X-PUBLISHED-TTL:PT15M
X-WR-CALNAME:London and South East (LASER)
NAME:London and South East (LASER)
BEGIN:VTIMEZONE
TZID:Europe/London
TZURL:https://tzurl.org/zoneinfo/Europe/London
X-LIC-LOCATION:Europe/London
BEGIN:DAYLIGHT
TZOFFSETFROM:+0000
TZOFFSETTO:+0100
TZNAME:BST
DTSTART:20240331T020000Z
RRULE:FREQ=YEARLY;BYMONTH=3;BYDAY=-1SU
END:DAYLIGHT
BEGIN:STANDARD
TZOFFSETFROM:+0100
TZOFFSETTO:+0000
TZNAME:GMT
DTSTART:20241027T020000Z
RRULE:FREQ=YEARLY;BYMONTH=10;BYDAY=-1SU
END:STANDARD
END:VTIMEZONE
BEGIN:VEVENT
SUMMARY:Gong vibes at Bexhill
DTSTAMP:20240712T013714Z
SEQUENCE:0
UID:8792-7-0712e666d78c35a5e0181a336d457050@bn.org.uk
ORGANIZER;CN="philip.baker":notifications@bn.org.uk
DESCRIPTION:\n	Gong baths can help you relax\, reset and rejuvenate with
	 nothing for you to do but to take an hour out of the hustle and bustle of
	 this modern world. Then allow the vibrations of\, up to ten\, beautiful g
	ongs to wash through and over you\, bringing you deep peace and a sense of
	 wellbeing physically\, emotionally\, and spiritually.\n\n\n\n	I have thre
	e places available to join East Sussex Naturists for a naked gong bath. Co
	st £14 by bank transfer to the club. Please contact philip.baker@bn.org.u
	k.\n\n
DTSTART:20240910T160000Z
DTEND:20240910T180000Z
ATTENDEE;CN="philip.baker";CUTYPE=INDIVIDUAL;PARTSTAT=ACCEPT
	ED:notifications@bn.org.uk
ATTENDEE;CN="chris.davidson";CUTYPE=INDIVIDUAL;PARTSTAT=ACCE
	PTED:notifications@bn.org.uk
END:VEVENT
END:VCALENDAR
