BEGIN:VCALENDAR
VERSION:2.0
PRODID:-//InvisionCommunity Events 5.0.18//EN
METHOD:PUBLISH
CALSCALE:GREGORIAN
REFRESH-INTERVAL:PT15M
X-PUBLISHED-TTL:PT15M
X-WR-CALNAME:Eastern
NAME:Eastern
BEGIN:VTIMEZONE
TZID:Europe/London
TZURL:https://tzurl.org/zoneinfo/Europe/London
X-LIC-LOCATION:Europe/London
BEGIN:DAYLIGHT
TZOFFSETFROM:+0000
TZOFFSETTO:+0100
TZNAME:BST
DTSTART:20240331T020000Z
RRULE:FREQ=YEARLY;BYMONTH=3;BYDAY=-1SU
END:DAYLIGHT
BEGIN:STANDARD
TZOFFSETFROM:+0100
TZOFFSETTO:+0000
TZNAME:GMT
DTSTART:20241027T020000Z
RRULE:FREQ=YEARLY;BYMONTH=10;BYDAY=-1SU
END:STANDARD
END:VTIMEZONE
BEGIN:VEVENT
SUMMARY:MNSC - Swim\, Sauna & Steamroom\, Bury St Edmunds
DTSTAMP:20240706T085742Z
SEQUENCE:0
UID:8760-8-0712e666d78c35a5e0181a336d457050@bn.org.uk
ORGANIZER;CN="Ross28":notifications@bn.org.uk
DESCRIPTION:\n	A regular swim\, plus sauna and steam room\, at Bury St E
	dmunds Leisure Centre run by Mid-Anglia Naturist Swimming Club (MNSC).\n\n
	\n\n	Please contact the club if you would like to attend. BN members\, g
	uests and visitors are very welcome. Full details at the club website\n\n
DTSTART:20241019T153000Z
DTEND:20241019T170000Z
END:VEVENT
END:VCALENDAR
