BEGIN:VCALENDAR
VERSION:2.0
PRODID:-//InvisionCommunity Events 5.0.18//EN
METHOD:PUBLISH
CALSCALE:GREGORIAN
REFRESH-INTERVAL:PT15M
X-PUBLISHED-TTL:PT15M
X-WR-CALNAME:Yorkshire and East Midlands
NAME:Yorkshire and East Midlands
BEGIN:VTIMEZONE
TZID:Europe/London
TZURL:https://tzurl.org/zoneinfo/Europe/London
X-LIC-LOCATION:Europe/London
BEGIN:DAYLIGHT
TZOFFSETFROM:+0000
TZOFFSETTO:+0100
TZNAME:BST
DTSTART:20240331T020000Z
RRULE:FREQ=YEARLY;BYMONTH=3;BYDAY=-1SU
END:DAYLIGHT
BEGIN:STANDARD
TZOFFSETFROM:+0100
TZOFFSETTO:+0000
TZNAME:GMT
DTSTART:20241027T020000Z
RRULE:FREQ=YEARLY;BYMONTH=10;BYDAY=-1SU
END:STANDARD
END:VTIMEZONE
BEGIN:VEVENT
SUMMARY:Yorks & E.Mids walks - Watton
DTSTAMP:20240705T165732Z
SEQUENCE:0
UID:8759-6-0712e666d78c35a5e0181a336d457050@bn.org.uk
ORGANIZER;CN="sarah7":notifications@bn.org.uk
DESCRIPTION:\n	Watton #2 Naturist Walk – Sunday 28 July 2024\n\n\n\n	J
	oin us for a new 5.75 mile naturist walk starting at/returning to Watton\,
	 East Yorkshire\, located to the south of Driffield\n\n\n\n	The walk is co
	mpletely flat\, passing through grassland\, agricultural fields and open c
	ountryside. The circular route follows a network of public footpaths befor
	e heading back to the start point across open countryside.\n\n\n\n	For fur
	ther information or to book onto the event\, contact Sarah White via email
	: sarah.white@bn.org.uk  with your contact details. Details of the meetin
	g point and other information will be provided when your booking is confir
	med.\n\n\n
DTSTART:20240728T100000Z
END:VEVENT
END:VCALENDAR
