BEGIN:VCALENDAR
VERSION:2.0
PRODID:-//InvisionCommunity Events 5.0.18//EN
METHOD:PUBLISH
CALSCALE:GREGORIAN
REFRESH-INTERVAL:PT15M
X-PUBLISHED-TTL:PT15M
X-WR-CALNAME:Eastern
NAME:Eastern
BEGIN:VTIMEZONE
TZID:Europe/London
TZURL:https://tzurl.org/zoneinfo/Europe/London
X-LIC-LOCATION:Europe/London
BEGIN:DAYLIGHT
TZOFFSETFROM:+0000
TZOFFSETTO:+0100
TZNAME:BST
DTSTART:20240331T020000Z
RRULE:FREQ=YEARLY;BYMONTH=3;BYDAY=-1SU
END:DAYLIGHT
BEGIN:STANDARD
TZOFFSETFROM:+0100
TZOFFSETTO:+0000
TZNAME:GMT
DTSTART:20241027T020000Z
RRULE:FREQ=YEARLY;BYMONTH=10;BYDAY=-1SU
END:STANDARD
END:VTIMEZONE
BEGIN:VEVENT
SUMMARY:Northampton Sun Group
DTSTAMP:20240621T134939Z
SEQUENCE:0
UID:8741-8-0712e666d78c35a5e0181a336d457050@bn.org.uk
ORGANIZER;CN="mellori":notifications@bn.org.uk
DESCRIPTION:\n	The Northampton Sun Group was formed 42 years ago in 1982
	.\n\n\n\n	We have access to Two Swimming Pools\, use of a Sauna\, a Steam-
	Room\, a Plunge Pool and Turkish Hot Rooms. The Doors are open at 17:00 t
	ill 18:00 for entry.\n\n\n\n	Membership and Visiting is open to all\, male
	 or female\, singles or couples\, all are equally welcome. If you have not
	 been along to a meeting before you can just turn up on the night. Please 
	bring along Photo ID and Proof of Address on your first visit. Or if you a
	re a BN Member please bring along your Current BN Membership card.\n\n
	\n\n	There is no requirement to contact us in advance of your visit\, howe
	ver\, if you do have any queries you can get in contact via the website or
	 email us.\n\n\n\n	Currently the Entry Fee is £10 each. It is FREE for U
	18s\, but they MUST be accompanied by a responsible adult at all times.
	 \n\n\n\n	There is plenty of Parking in the Victoria Street Car Park\, op
	posite The Mounts. N.B. It is only FREE for the first 2 hours\, so if 
	attending a full swim you will need to pay £2.20 before leaving the car p
	ark! It’s about a 1 minute walk from the car park to The Mounts. The Po
	stcode for the Car Park is – NN1 3NR.\n\n\n\n	There is also Free Disabl
	ed Parking in front of The Mounts. A Blue Disabled Badge will need to be e
	xhibited in your windscreen. There is also a ramp into the building for Wh
	eelchair Access.\n\n\n\n	Free Tea\, Coffee and Biscuits (Donations Welcome
	) will be available during the evening in the Meeting Room. Please bring y
	our own mug or cup to help us cut down on paper cup usage. You are also we
	lcome to bring your own snack or drink if you wish. If you wish to use a l
	ocker in the changing rooms please bring your own padlock. That’s all!\n
	\n\n\n	Further Details - NSG Website - www.nsgswim.org.uk\n\n\n\n	\n\n\n\n
		\n\n\n\n	\n\n\n\n	\n\n\n\n	\n\n\n\n	\n\n\n\n	\n\n\n\n	\n\n
DTSTART:20241110T173000Z
DTEND:20241110T200000Z
END:VEVENT
END:VCALENDAR
