BEGIN:VCALENDAR
VERSION:2.0
PRODID:-//InvisionCommunity Events 5.0.18//EN
METHOD:PUBLISH
CALSCALE:GREGORIAN
REFRESH-INTERVAL:PT15M
X-PUBLISHED-TTL:PT15M
X-WR-CALNAME:International
NAME:International
BEGIN:VTIMEZONE
TZID:Europe/London
TZURL:https://tzurl.org/zoneinfo/Europe/London
X-LIC-LOCATION:Europe/London
BEGIN:DAYLIGHT
TZOFFSETFROM:+0000
TZOFFSETTO:+0100
TZNAME:BST
DTSTART:20240331T020000Z
RRULE:FREQ=YEARLY;BYMONTH=3;BYDAY=-1SU
END:DAYLIGHT
BEGIN:STANDARD
TZOFFSETFROM:+0100
TZOFFSETTO:+0000
TZNAME:GMT
DTSTART:20241027T020000Z
RRULE:FREQ=YEARLY;BYMONTH=10;BYDAY=-1SU
END:STANDARD
END:VTIMEZONE
BEGIN:VEVENT
SUMMARY:Naturist Foundation 5K Naked Run
DTSTAMP:20240612T143909Z
SEQUENCE:0
UID:8712-9-0712e666d78c35a5e0181a336d457050@bn.org.uk
ORGANIZER;CN="Steve Froggatt":notifications@bn.org.uk
DESCRIPTION:\n	 \n\n\n\n	\n\n\n\n	 \n\n\n\n	Text from Naturist Foundat
	ion's website (https://www.naturistfoundation.org/5k-run-2/)\n\n\n\n	\"Com
	e and join in the fun and challenge yourself in the process! Come and enjo
	y a trail run around our 53 acre site\, through our woodland. After the ra
	ce\, why not stay for the day and enjoy the facilities\, including our hea
	ted swimming pool\, sauna\, and hot showers (20p). The Teapot Café and ou
	r licensed outdoor bar will be open too.\n\n\n\n	We will again be using ou
	r chip timing system for this race. You will be handed a returnable lightw
	eight ankle tag which will record your time and placing as you cross the f
	inish line. Our latest 2024 design medal will be offered to all who take p
	art\, and certificates will be printed upon requestas well after the race 
	has finished. As always\, there are trophies for the top 3 finishers in ea
	ch category.\n\n\n\n	Weather permitting there will be fun races\, includin
	g egg and spoon\, and ‘It’s a Knockout’ style games in the afternoon
	. If you have any questions please feel free to email or call the office.\
	n\n\n\n	PROGRAMME\n\n\n\n	\n		9.30am     Registration opens\n	\n	\n		11.
	00am   Familiarisation course walk\n	\n	\n		11.30am   5k start\n	\n	\n		
	1.00pm     Winners presentations and optional photos\n	\n	\n		3.00pm  
	   Fun races and games (weather permitting)\"\n	\n\n\n\n	 \n\n\n\n	Their
	 booking form is: https://www.naturistfoundation.org/5krun-form/\n\n
DTSTART:20240915T083000Z
END:VEVENT
END:VCALENDAR
