BEGIN:VCALENDAR
VERSION:2.0
PRODID:-//InvisionCommunity Events 5.0.18//EN
METHOD:PUBLISH
CALSCALE:GREGORIAN
REFRESH-INTERVAL:PT15M
X-PUBLISHED-TTL:PT15M
X-WR-CALNAME:Scotland and North East (SANER)
NAME:Scotland and North East (SANER)
BEGIN:VTIMEZONE
TZID:Europe/London
TZURL:https://tzurl.org/zoneinfo/Europe/London
X-LIC-LOCATION:Europe/London
BEGIN:DAYLIGHT
TZOFFSETFROM:+0000
TZOFFSETTO:+0100
TZNAME:BST
DTSTART:20250330T020000Z
RRULE:FREQ=YEARLY;BYMONTH=3;BYDAY=-1SU
END:DAYLIGHT
BEGIN:STANDARD
TZOFFSETFROM:+0100
TZOFFSETTO:+0000
TZNAME:GMT
DTSTART:20251026T020000Z
RRULE:FREQ=YEARLY;BYMONTH=10;BYDAY=-1SU
END:STANDARD
END:VTIMEZONE
BEGIN:VEVENT
SUMMARY:Alnwick Garden visit
DTSTAMP:20240612T123749Z
SEQUENCE:0
UID:8711-3-0712e666d78c35a5e0181a336d457050@bn.org.uk
ORGANIZER;CN="Falkirkdan":notifications@bn.org.uk
DESCRIPTION:\n	Once again we are invited to Alnwick Garden by the Duches
	s of Northumberland to wander round this lovely garden in the way nature p
	lanned naked.  With its amazing water features and being naked is the gre
	at chance to be a kid again and play in some of the water features\, skin 
	is waterproof\, although maybe bring a towel to dry off.  Explore the poi
	son garden but don't touch. A changing area is available and teas and coff
	ees are included in the pavilion.  \n\n\n\n	Our host for the evening has
	 ensured me that the water cascades will be on.\n\n\n\n	Book here £13.5
	0 per person. This event is open to both BN members and their guests and f
	ellow naturists.  \n\n\n\n	Why not make a weekend of naturist fun with th
	e Boat Trip on the Saturday from Seahouses and range of events organise at
	 Tando Naturist Club\n\n\n\n	Note do not use the main daytime carpark but 
	go through gates to parking area for disabled parking and Treehouse restau
	rant.\n\n\n\n	Look forward to seeing you there.\n\n\n\n	\n\n\n\n	 \n\n\n\
	n	\n\n\n\n	\n\n\n\n	\n\n\n\n	\n\n\n\n	\n\n
DTSTART:20250720T173000Z
DTEND:20250720T193000Z
END:VEVENT
END:VCALENDAR
