BEGIN:VCALENDAR
VERSION:2.0
PRODID:-//InvisionCommunity Events 5.0.18//EN
METHOD:PUBLISH
CALSCALE:GREGORIAN
REFRESH-INTERVAL:PT15M
X-PUBLISHED-TTL:PT15M
X-WR-CALNAME:London and South East (LASER)
NAME:London and South East (LASER)
BEGIN:VTIMEZONE
TZID:Europe/London
TZURL:https://tzurl.org/zoneinfo/Europe/London
X-LIC-LOCATION:Europe/London
BEGIN:DAYLIGHT
TZOFFSETFROM:+0000
TZOFFSETTO:+0100
TZNAME:BST
DTSTART:20240331T020000Z
RRULE:FREQ=YEARLY;BYMONTH=3;BYDAY=-1SU
END:DAYLIGHT
BEGIN:STANDARD
TZOFFSETFROM:+0100
TZOFFSETTO:+0000
TZNAME:GMT
DTSTART:20241027T020000Z
RRULE:FREQ=YEARLY;BYMONTH=10;BYDAY=-1SU
END:STANDARD
END:VTIMEZONE
BEGIN:VEVENT
SUMMARY:Haslemere Sun Club Open Weekend
DTSTAMP:20240611T214522Z
SEQUENCE:0
UID:8710-7-0712e666d78c35a5e0181a336d457050@bn.org.uk
ORGANIZER;CN="graham.powell":notifications@bn.org.uk
DESCRIPTION:\n	Haslemere Sun Club's annual Open Weekend has been postpon
	ed this year from 22-23rd June\, due to issues with the Pool Heat Pump and
	 clashing with Nudefest.  Instead we are hosting this event on the Bank H
	oliday weekend in August\, when we will also be hosting The Kellertones\, 
	a live band who played at the club a couple of years ago when we celebrate
	d our 75th anniversary.\n\n
DTSTART;VALUE=DATE:20240824
DTEND;VALUE=DATE:20240826
ATTENDEE;CN="Ian60";CUTYPE=INDIVIDUAL;PARTSTAT=ACCEPTED:noti
	fications@bn.org.uk
ATTENDEE;CN="Phil12";CUTYPE=INDIVIDUAL;PARTSTAT=ACCEPTED:not
	ifications@bn.org.uk
ATTENDEE;CN="pghumphries";CUTYPE=INDIVIDUAL;PARTSTAT=ACCEPTE
	D:notifications@bn.org.uk
END:VEVENT
END:VCALENDAR
