BEGIN:VCALENDAR
VERSION:2.0
PRODID:-//InvisionCommunity Events 5.0.18//EN
METHOD:PUBLISH
CALSCALE:GREGORIAN
REFRESH-INTERVAL:PT15M
X-PUBLISHED-TTL:PT15M
X-WR-CALNAME:Yorkshire and East Midlands
NAME:Yorkshire and East Midlands
BEGIN:VTIMEZONE
TZID:Europe/London
TZURL:https://tzurl.org/zoneinfo/Europe/London
X-LIC-LOCATION:Europe/London
BEGIN:DAYLIGHT
TZOFFSETFROM:+0000
TZOFFSETTO:+0100
TZNAME:BST
DTSTART:20240331T020000Z
RRULE:FREQ=YEARLY;BYMONTH=3;BYDAY=-1SU
END:DAYLIGHT
BEGIN:STANDARD
TZOFFSETFROM:+0100
TZOFFSETTO:+0000
TZNAME:GMT
DTSTART:20241027T020000Z
RRULE:FREQ=YEARLY;BYMONTH=10;BYDAY=-1SU
END:STANDARD
END:VTIMEZONE
BEGIN:VEVENT
SUMMARY:Helmsley Open Air Pool GBSD
DTSTAMP:20240610T145740Z
SEQUENCE:0
UID:8708-6-0712e666d78c35a5e0181a336d457050@bn.org.uk
ORGANIZER;CN="Ron.O":notifications@bn.org.uk
DESCRIPTION:\n	 \n\n\n\n	Helmsley Open Air Pool GBSD\n\n\n\n	GBSD eve
	nts are focused on encouraging people to try naturism\, by skinny dipping\
	, whilst fundraising for the British Heart Foundation. A donation to BHF i
	s included in the cost of tickets.\n\n	Helmsley Open Air Pool is at the ba
	ck of town\, up behind the church\, some 500yds. There is parking\, There 
	are w/c’s\, basic showers and there will be modest refreshments availabl
	e\, but I would suggest bringing something with you as well.\n\n	This even
	t is not ticketed via this website. Pre booking is essential by emailing 
	southyorkshirenaturists@gmail.com and a £15.00 non refundable pre paymen
	t via PayPal  (which includes a donation to BHF) will be necessary\n\n	Th
	ere will be no walk in on the night.\n\n	If you let me know you are intere
	sted - southyorkshirenaturists@gmail.com - I will send you details for p
	ayment. Once I have received payment you will be on the list.\n\n	I am hop
	ing to set up a fundraising page\, direct to BHF\, for anyone interested i
	n getting sponsored.\n\n	Any questions please let me know\n\n\n\n	Name of 
	organiser: John Oliver - South Yorkshire Naturists\n\n\n\n	Website/Facebo
	ok event link:\n\n\n\n	Contact email: southyorkshirenaturists@gmail.com\n
	\n\n\n	Contact telephone:\n\n\n\n	Cost: £15 - includes donation to BHF.\
	n\n\n\n	 \n\n
DTSTART:20240622T181500Z
DTEND:20240622T201500Z
END:VEVENT
END:VCALENDAR
