BEGIN:VCALENDAR
VERSION:2.0
PRODID:-//InvisionCommunity Events 5.0.18//EN
METHOD:PUBLISH
CALSCALE:GREGORIAN
REFRESH-INTERVAL:PT15M
X-PUBLISHED-TTL:PT15M
X-WR-CALNAME:London and South East (LASER)
NAME:London and South East (LASER)
BEGIN:VTIMEZONE
TZID:Europe/London
TZURL:https://tzurl.org/zoneinfo/Europe/London
X-LIC-LOCATION:Europe/London
BEGIN:DAYLIGHT
TZOFFSETFROM:+0000
TZOFFSETTO:+0100
TZNAME:BST
DTSTART:20240331T020000Z
RRULE:FREQ=YEARLY;BYMONTH=3;BYDAY=-1SU
END:DAYLIGHT
BEGIN:STANDARD
TZOFFSETFROM:+0100
TZOFFSETTO:+0000
TZNAME:GMT
DTSTART:20241027T020000Z
RRULE:FREQ=YEARLY;BYMONTH=10;BYDAY=-1SU
END:STANDARD
END:VTIMEZONE
BEGIN:VEVENT
SUMMARY:Naturist Evening Visit to Houghton Lodge Gardens (restricted
	 access)
DTSTAMP:20240609T104043Z
SEQUENCE:0
UID:8697-7-0712e666d78c35a5e0181a336d457050@bn.org.uk
ORGANIZER;CN="Colin Taylor":notifications@bn.org.uk
DESCRIPTION:\n	Additional date.\n\n\n\n	Sophie and her team at Houghton 
	Lodge Gardens are delighted to welcome BN members and other naturists ba
	ck to enjoy a naturist evening\, following successful events over the last
	 few years. This is a restricted access visit with the walled gardens bein
	g strictly out of bounds as another event is taking place. Tea and coffee 
	we be available on the house terrace and this is included in your slightly
	 reduced entrance price. This was the original date of our visit but this 
	was rearranged to the previous day due to a booking error\, so this is the
	 second visit this week!\n\n\n\n	The gardens will open for naturist visito
	rs from 5:30 p.m.\, and will remain open until 8:30 p.m. - entrance to the
	 gardens will be priced at £10.00 per person. \n\n\n\n	Please note that 
	this event is not directly organised by BN\, so no pre-booking is require
	d. You can simply pay on arrival using either cash or card\n\n\n\n	The gar
	dens themselves are a delightful mixture of formal planting and more natur
	al settings\, and include direct access to the banks of the River Test\n\n
	\n\n	There is ample parking available at the gardens\, which are located c
	lose to Stockbridge in Hampshire. You can find more information about the 
	gardens including directions on their website \n\n\n\n	Whilst the Hought
	on Lodge team are very supportive of naturism\, they ask that visitors rem
	ain dressed until they are inside the gardens - there will be an area to u
	ndress and leave clothes inside the gardens. Thanks for your understanding
	 on this point\n\n\n\n	Non naturist friends and partners are also welcome 
	at the event\, providing of course that they are respectful of naturist vi
	sitors at all times\n\n\n\n	Unfortunately\, following a change in catering
	 company the tea room at Houghton Lodge will NOT be open on the evening. W
	e are organising some hot and cold drinks to be available but suggest you 
	may like to bring your own picnic this time.\n\n\n\n	Please feel free to c
	ontact @Colin Taylor by PM or at Colin.taylor@bn.org.uk for more informa
	tion \n\n\n\n	There will also be a a NatRam walk on Tuesday 11 June\, a B
	N-led joint NatRam naturist walk and dinner and skittles evening on 13 Jun
	e - you might want to make a longer trip and join all four events!\n\n
DTSTART:20240612T163000Z
DTEND:20240612T193000Z
END:VEVENT
END:VCALENDAR
