BEGIN:VCALENDAR
VERSION:2.0
PRODID:-//InvisionCommunity Events 5.0.18//EN
METHOD:PUBLISH
CALSCALE:GREGORIAN
REFRESH-INTERVAL:PT15M
X-PUBLISHED-TTL:PT15M
X-WR-CALNAME:London and South East (LASER)
NAME:London and South East (LASER)
BEGIN:VTIMEZONE
TZID:Europe/London
TZURL:https://tzurl.org/zoneinfo/Europe/London
X-LIC-LOCATION:Europe/London
BEGIN:DAYLIGHT
TZOFFSETFROM:+0000
TZOFFSETTO:+0100
TZNAME:BST
DTSTART:20240331T020000Z
RRULE:FREQ=YEARLY;BYMONTH=3;BYDAY=-1SU
END:DAYLIGHT
BEGIN:STANDARD
TZOFFSETFROM:+0100
TZOFFSETTO:+0000
TZNAME:GMT
DTSTART:20241027T020000Z
RRULE:FREQ=YEARLY;BYMONTH=10;BYDAY=-1SU
END:STANDARD
END:VTIMEZONE
BEGIN:VEVENT
SUMMARY:Ashdown Forest walk
DTSTAMP:20240603T200219Z
SEQUENCE:0
UID:8686-7-0712e666d78c35a5e0181a336d457050@bn.org.uk
ORGANIZER;CN="mike_fernlea":notifications@bn.org.uk
DESCRIPTION:\n	This is an 18km walk in Ashdown Forest and through the be
	autiful West Sussex coutryside.\n\n\n\n	The walk is fairly level with only
	 some minor hills and no major climbs. The walk will meet at 11:00am in As
	hdown Forest\n\n\n\n	Meeting location: Millbrook East Car Park\, Ashdown F
	orest\n\n\n\n	    https://maps.app.goo.gl/D7Ftumn3DYqF6XXV8 \n\n\n\
	n	    What three words - specifies.caramel.snacks\n\n\n\n	    Postco
	de TN22 3HW\n\n\n\n	(It may also be possible to pick up people from East G
	rinstead train station\, depending on numbers. Please contact Mike Ryan be
	fore-hand to confirm)\n\n\n\n	Contact: Mike Ryan 07958 750139\n\n\n\n	Walk
	 leader: Phil Harris 07711 640060\n\n\n\n	As always\, please ensure you br
	ing enough water and snacks for the walk.\n\n
DTSTART:20240704T100000Z
ATTENDEE;CN="Rycker";CUTYPE=INDIVIDUAL;PARTSTAT=ACCEPTED:not
	ifications@bn.org.uk
ATTENDEE;CN="RoBi65";CUTYPE=INDIVIDUAL;PARTSTAT=ACCEPTED:not
	ifications@bn.org.uk
END:VEVENT
END:VCALENDAR
