BEGIN:VCALENDAR
VERSION:2.0
PRODID:-//InvisionCommunity Events 5.0.18//EN
METHOD:PUBLISH
CALSCALE:GREGORIAN
REFRESH-INTERVAL:PT15M
X-PUBLISHED-TTL:PT15M
X-WR-CALNAME:Eastern
NAME:Eastern
BEGIN:VTIMEZONE
TZID:Europe/London
TZURL:https://tzurl.org/zoneinfo/Europe/London
X-LIC-LOCATION:Europe/London
BEGIN:DAYLIGHT
TZOFFSETFROM:+0000
TZOFFSETTO:+0100
TZNAME:BST
DTSTART:20240331T020000Z
RRULE:FREQ=YEARLY;BYMONTH=3;BYDAY=-1SU
END:DAYLIGHT
BEGIN:STANDARD
TZOFFSETFROM:+0100
TZOFFSETTO:+0000
TZNAME:GMT
DTSTART:20241027T020000Z
RRULE:FREQ=YEARLY;BYMONTH=10;BYDAY=-1SU
END:STANDARD
END:VTIMEZONE
BEGIN:VEVENT
SUMMARY:Norton Lakes Naturist weekend
DTSTAMP:20240516T182303Z
SEQUENCE:0
UID:8667-8-0712e666d78c35a5e0181a336d457050@bn.org.uk
ORGANIZER;CN="Nigel_Newman":notifications@bn.org.uk
DESCRIPTION:\n	Club Naturel along with the owner Stuart of Norton Lakes 
	near Bury St Edmunds\, Suffolk are holding a Naturist Weekend on Saturday 
	13th and Sunday 14th July. Come along and enjoy the peacefulness of the su
	rroundings of the lakes\, fishing optional. You will need to bring your ow
	n food and drinks etc. as there is no running water or electricity availab
	le. There is toilets on site. You can camp over or attend either or both d
	ays. Prices for the weekend are: \n\n\n\n	Prices per person.\n\n\n\n	DAY 
	VISIT: £10:00\n\n\n\n	DAY FISHING: £20:00\n\n\n\n	24HR VISITORS: £35:00
	 *Must book in to fish*\n\n\n\n	For all enquiries and to book in for fishi
	ng contact Stuart 07747107728\n\n
DTSTART:20240713T080000Z
DTEND:20240714T190000Z
END:VEVENT
END:VCALENDAR
