BEGIN:VCALENDAR
VERSION:2.0
PRODID:-//InvisionCommunity Events 5.0.18//EN
METHOD:PUBLISH
CALSCALE:GREGORIAN
REFRESH-INTERVAL:PT15M
X-PUBLISHED-TTL:PT15M
X-WR-CALNAME:London and South East (LASER)
NAME:London and South East (LASER)
BEGIN:VTIMEZONE
TZID:Europe/London
TZURL:https://tzurl.org/zoneinfo/Europe/London
X-LIC-LOCATION:Europe/London
BEGIN:DAYLIGHT
TZOFFSETFROM:+0000
TZOFFSETTO:+0100
TZNAME:BST
DTSTART:20240331T020000Z
RRULE:FREQ=YEARLY;BYMONTH=3;BYDAY=-1SU
END:DAYLIGHT
BEGIN:STANDARD
TZOFFSETFROM:+0100
TZOFFSETTO:+0000
TZNAME:GMT
DTSTART:20241027T020000Z
RRULE:FREQ=YEARLY;BYMONTH=10;BYDAY=-1SU
END:STANDARD
END:VTIMEZONE
BEGIN:VEVENT
SUMMARY:Naturist visit to Bexhill museum
DTSTAMP:20240515T184242Z
SEQUENCE:0
UID:8663-7-0712e666d78c35a5e0181a336d457050@bn.org.uk
ORGANIZER;CN="philip.baker":notifications@bn.org.uk
DESCRIPTION:\n	Bexhill Museum is an independent Arts Council accredited 
	museum  and is operated daily almost entirely by volunteers. Our emphasis
	 is on education through displays and exhibitions in the gallery and by ou
	treach work in the community.\n\n\n\n	It is home to a variety of objects 
	of natural history\, geology and archaeology\, costume\, celebration of Be
	xhill's history as the first place automobile racing took place and home o
	f the Elva racing car and  Eddie Izard's (Patron) 1940's N gauge model ra
	ilway. Learn the history of the modernist De La Warr pavilion (1935) and t
	he strange tale of the town’s finishing school for daughters of the Nazi
	 elite - the Augusta Victoria College.\n\n\n\n	Please contact philip.baker
	@bn.org.uk if you are interested to join East Sussex Naturists in this nat
	urist first. Limited places.\n\n\n\n	Further details will be posted after 
	I visit on 23rd May. Price likely to be about £7.\n\n\n\n	https://www.bex
	hillmuseum.org.uk/\n\n
DTSTART:20240618T170000Z
END:VEVENT
END:VCALENDAR
