BEGIN:VCALENDAR
VERSION:2.0
PRODID:-//InvisionCommunity Events 5.0.18//EN
METHOD:PUBLISH
CALSCALE:GREGORIAN
REFRESH-INTERVAL:PT15M
X-PUBLISHED-TTL:PT15M
X-WR-CALNAME:Yorkshire and East Midlands
NAME:Yorkshire and East Midlands
BEGIN:VTIMEZONE
TZID:Europe/London
TZURL:https://tzurl.org/zoneinfo/Europe/London
X-LIC-LOCATION:Europe/London
BEGIN:DAYLIGHT
TZOFFSETFROM:+0000
TZOFFSETTO:+0100
TZNAME:BST
DTSTART:20240331T020000Z
RRULE:FREQ=YEARLY;BYMONTH=3;BYDAY=-1SU
END:DAYLIGHT
BEGIN:STANDARD
TZOFFSETFROM:+0100
TZOFFSETTO:+0000
TZNAME:GMT
DTSTART:20241027T020000Z
RRULE:FREQ=YEARLY;BYMONTH=10;BYDAY=-1SU
END:STANDARD
END:VTIMEZONE
BEGIN:VEVENT
SUMMARY:Skinny Dip at Nottingham Sun Club
DTSTAMP:20240508T214724Z
SEQUENCE:0
UID:8635-6-0712e666d78c35a5e0181a336d457050@bn.org.uk
ORGANIZER;CN="Andrew.Davies":notifications@bn.org.uk
DESCRIPTION:\n	Nottingham Sun Club is taking part in the Great British S
	ynchronised Skinny Dip\n\n\n\n	Time: 11:00 – 16:00\n\n\n\n	Entrance: Fre
	e\n\n\n\n	To take part in the GBSD there will be a £10 donation from eac
	h person for the benefit of The British Heart Foundation.\n\n\n\n	We have
	 some availability for overnight visitors in tents\, trailer tents\, motor
	homes plus we have a trailer tent for overnight hire. This must be booked 
	in advance. Ask our Visitor Warden for details when booking.\n\n\n\n	Overn
	ight stay £25 per unit inc. 6A electric\n\n\n\n	Trailer Tent Hire £25 pe
	r night inc. 6A electric\n\n\n\n	The above is subject to availability\n\n\
	n\n	Toilet chemicals MUST be green i.e. suitable for septic tanks.\n\n\n\n
		To arrange a visit for The Great British Skinny Dip email visitorwarden.n
	sc@gmail.com\n\n\n\n	Visits are strictly by prior arrangement and confirma
	tion only.\n\n\n\n	On the day all visitors \n\n\n\n	·       Will b
	e met and checked off the approved visitor list\n\n\n\n	·       Mus
	t provide photographic I.D. and their confirmation details\n\n\n\n	
	·       Must abide by NSC rules at all times\n\n\n\n	There will be 
	no exceptions to the above.\n\n\n\n	Food\, tea and coffee will be availabl
	e to purchase .\n\n\n\n	Our facilities include:\n\n\n\n	·       Cov
	ered Heated pool\n\n\n\n	·       Showers (20p charge)\n\n\n\
	n	·       Pavilions\n\n\n\n	·       Tuck Shop\n\n\n
	\n	·       BBQ’s\n\n\n\n	·       Miniten Courts\n\n
	\n\n	·       Tennis Court\n\n\n\n	·       Shuffleboar
	d\n\n\n\n	·       Pool Table\n\n
DTSTART:20240601T100000Z
DTEND:20240601T150000Z
END:VEVENT
END:VCALENDAR
