BEGIN:VCALENDAR
VERSION:2.0
PRODID:-//InvisionCommunity Events 5.0.18//EN
METHOD:PUBLISH
CALSCALE:GREGORIAN
REFRESH-INTERVAL:PT15M
X-PUBLISHED-TTL:PT15M
X-WR-CALNAME:London and South East (LASER)
NAME:London and South East (LASER)
BEGIN:VTIMEZONE
TZID:Europe/London
TZURL:https://tzurl.org/zoneinfo/Europe/London
X-LIC-LOCATION:Europe/London
BEGIN:DAYLIGHT
TZOFFSETFROM:+0000
TZOFFSETTO:+0100
TZNAME:BST
DTSTART:20240331T020000Z
RRULE:FREQ=YEARLY;BYMONTH=3;BYDAY=-1SU
END:DAYLIGHT
BEGIN:STANDARD
TZOFFSETFROM:+0100
TZOFFSETTO:+0000
TZNAME:GMT
DTSTART:20241027T020000Z
RRULE:FREQ=YEARLY;BYMONTH=10;BYDAY=-1SU
END:STANDARD
END:VTIMEZONE
BEGIN:VEVENT
SUMMARY:Naked Swim at Petersfield Open Air Swimming Pool
DTSTAMP:20240503T120537Z
SEQUENCE:0
UID:8631-7-0712e666d78c35a5e0181a336d457050@bn.org.uk
ORGANIZER;CN="Colin Taylor":notifications@bn.org.uk
DESCRIPTION:\n	Petersfield Open Air Swimming Pool are welcoming us back 
	this year for a series of three skinny dips in June\, July and August. \n
	\n\n\n	The pool is heated to 27 degrees C\, there is a café on site for
	 hot &amp\; cold drinks and snacks and a BBQ – Burgers £5.\n\n\n\n	Ther
	e is a large public car park or if coming via public transport\, the pool 
	is located a 10 minute walk from the station.\n\n\n\n	 \n\n\n\n	The Gre
	at British Skinny Dip is raising funds for the British Heart Foundation. P
	lease consider purchasing a ticket with an extra £2 donated to BHF. Alt
	ernatively we will have collecting buckets for any cash donations on the 
	night.\n\n\n\n	Ticket prices:\n\n\n\n	BN Member £9.00\n\n\n\n	BN Non Me
	mber £12.00\n\n\n\n	BN member plus £2 donation to BHF £11.00\n\n\n\n	
	Non BN member plus donation £14.00\n\n\n\n	 \n\n\n\n	To Book Click Her
	e\n\n
DTSTART:20240713T173000Z
DTEND:20240713T193000Z
END:VEVENT
END:VCALENDAR
