BEGIN:VCALENDAR
VERSION:2.0
PRODID:-//InvisionCommunity Events 5.0.18//EN
METHOD:PUBLISH
CALSCALE:GREGORIAN
REFRESH-INTERVAL:PT15M
X-PUBLISHED-TTL:PT15M
X-WR-CALNAME:London and South East (LASER)
NAME:London and South East (LASER)
BEGIN:VTIMEZONE
TZID:Europe/London
TZURL:https://tzurl.org/zoneinfo/Europe/London
X-LIC-LOCATION:Europe/London
BEGIN:DAYLIGHT
TZOFFSETFROM:+0000
TZOFFSETTO:+0100
TZNAME:BST
DTSTART:20240331T020000Z
RRULE:FREQ=YEARLY;BYMONTH=3;BYDAY=-1SU
END:DAYLIGHT
BEGIN:STANDARD
TZOFFSETFROM:+0100
TZOFFSETTO:+0000
TZNAME:GMT
DTSTART:20241027T020000Z
RRULE:FREQ=YEARLY;BYMONTH=10;BYDAY=-1SU
END:STANDARD
END:VTIMEZONE
BEGIN:VEVENT
SUMMARY:Scotney Castle Gardens evening
DTSTAMP:20240422T184710Z
SEQUENCE:0
UID:8619-7-0712e666d78c35a5e0181a336d457050@bn.org.uk
ORGANIZER;CN="philip.baker":notifications@bn.org.uk
DESCRIPTION:\n	This is the third year we are visiting the romantic garde
	ns at Scotney Castle run by the National Trust. Parking is free after 5 p.
	m. and entrance is at the side away from the House. Details about the venu
	e can be found at Scotney Castle | Kent | National Trust. Last year's pho
	tographs are in a members album on the BN site.\n\n\n\n	Payment will be at
	 the gate by card or cash (£12) - as this is a private event NT members d
	o have to pay. Picnics are available to pre-order.- please email me for th
	e bank details to make a transfer to the organisers - East Sussex Naturist
	s - philip.baker@bn.org.uk.\n\n\n\n	If anyone wishes to visit the House (d
	ressed) earlier than our event and are not NT members then I have arranged
	 that you can use the entrance receipt to get into the naturist event with
	out further payment. Non NT members prices are £4-50 for parking and £1
	7 for entrance.\n\n\n\n	Philip Baker\n\n
DTSTART:20240609T163000Z
DTEND:20240609T193000Z
END:VEVENT
END:VCALENDAR
