BEGIN:VCALENDAR
VERSION:2.0
PRODID:-//InvisionCommunity Events 5.0.18//EN
METHOD:PUBLISH
CALSCALE:GREGORIAN
REFRESH-INTERVAL:PT15M
X-PUBLISHED-TTL:PT15M
X-WR-CALNAME:Yorkshire and East Midlands
NAME:Yorkshire and East Midlands
BEGIN:VTIMEZONE
TZID:Europe/London
TZURL:https://tzurl.org/zoneinfo/Europe/London
X-LIC-LOCATION:Europe/London
BEGIN:DAYLIGHT
TZOFFSETFROM:+0000
TZOFFSETTO:+0100
TZNAME:BST
DTSTART:20240331T020000Z
RRULE:FREQ=YEARLY;BYMONTH=3;BYDAY=-1SU
END:DAYLIGHT
BEGIN:STANDARD
TZOFFSETFROM:+0100
TZOFFSETTO:+0000
TZNAME:GMT
DTSTART:20241027T020000Z
RRULE:FREQ=YEARLY;BYMONTH=10;BYDAY=-1SU
END:STANDARD
END:VTIMEZONE
BEGIN:VEVENT
SUMMARY:Burrows Gardens Derbyshire - garden visit
DTSTAMP:20240418T120539Z
SEQUENCE:0
UID:8610-6-0712e666d78c35a5e0181a336d457050@bn.org.uk
ORGANIZER;CN="Andrew.Davies":notifications@bn.org.uk
DESCRIPTION:\n	Following on from many years of naturist visits to Burrow
	s Gardens we have arranged three visits in 2024.  The property has been b
	ought by new owners and they are very keen to continue with naturist visit
	s.  \n\n\n\n	The cost will be . BN/INF members £10.00\, Non members 
	£12.50 for advance ticket sales via the BN shop. On the day tickets wil
	l be all at £15.00.\n\n\n\n	Located just off the main Ashbourne to Derby 
	road (A52)\, on the Derby side of Brailsford\, the gardens are approached 
	via a tree lined avenue\, at the end of which is parking on hard standing 
	- any overflow vehicles can park on the paddock.\n\n\n\n	For those familia
	r with what3words\, the location code for the entrance is verse.town.exit
	\n\n\n\n	Tea and Coffee will be available\, as well as delicious home bake
	d cakes\n\n\n\n	Advance tickets now available via https://shop.bn.org.uk/
	collections/local-naturist-events/products/8-june-2024-burrows-garden-visi
	t?variant=43967088230551\n\n\n\n	There have been reports in recent years i
	n BN Magazine.  The glowing comments below come from just one  report 
	of the previous visit the year before:\n\n\n\n	\n		  Quote\n	\n\n	\n		\n
				\"What a gem these gardens turned out to be. The gardens [...] are not 
	difficult to find and are essentially in two parts. One part on one side o
	f the house has extensive lawns\, a tennis court and some formally laid ou
	t lawns. On the other side of the house there are more lawns.\"\n		\n	\n\n
	\n\n	DE in BN  209\n\n\n\n	 \n\n\n\n	 \n\n\n\n	 \n\n\n\n	\n\n\n\n	\n\
	n\n\n	\n\n
DTSTART:20240608T110000Z
DTEND:20240608T150000Z
END:VEVENT
END:VCALENDAR
