BEGIN:VCALENDAR
VERSION:2.0
PRODID:-//InvisionCommunity Events 5.0.18//EN
METHOD:PUBLISH
CALSCALE:GREGORIAN
REFRESH-INTERVAL:PT15M
X-PUBLISHED-TTL:PT15M
X-WR-CALNAME:South West
NAME:South West
BEGIN:VTIMEZONE
TZID:Europe/London
TZURL:https://tzurl.org/zoneinfo/Europe/London
X-LIC-LOCATION:Europe/London
BEGIN:DAYLIGHT
TZOFFSETFROM:+0000
TZOFFSETTO:+0100
TZNAME:BST
DTSTART:20240331T020000Z
RRULE:FREQ=YEARLY;BYMONTH=3;BYDAY=-1SU
END:DAYLIGHT
BEGIN:STANDARD
TZOFFSETFROM:+0100
TZOFFSETTO:+0000
TZNAME:GMT
DTSTART:20241027T020000Z
RRULE:FREQ=YEARLY;BYMONTH=10;BYDAY=-1SU
END:STANDARD
END:VTIMEZONE
BEGIN:VEVENT
SUMMARY:Shaftsbury Lido Swim
DTSTAMP:20240415T221025Z
SEQUENCE:0
UID:8604-4-0712e666d78c35a5e0181a336d457050@bn.org.uk
ORGANIZER;CN="Andy Dyer":notifications@bn.org.uk
DESCRIPTION:\n	Swim in Dorset's only lido.  Recently refurbished and wi
	th equipment upgraded this winter\, the heated outdoor pool on Barton Hill
	 in Shaftesbury welcomes naturists on the second and fourth Tuesdays of th
	e summer months\, June\, July and August.  The Naked Swim sessions are fo
	r over 18s and run from 7pm - 8pm.  Cost: £8.  Free parking in nearby B
	arton Hill car park.  The Lido is run by Shaftesbury Town Council\, one o
	f the few local councils to offer a naturist swim.  Lido postcode SP7 8DQ
	.\n\n\n\n	Phone: 01747 853181 (Lido reception)  \n\n\n\n	Email: lidomana
	ger@shaftesbury-tc.gov.uk\n\n\n\n	Visit: https://www.shaftesbury-tc.gov.u
	k/services/lido/    \n\n
DTSTART:20240813T180000Z
DTEND:20240813T190000Z
RRULE:FREQ=WEEKLY;INTERVAL=2;UNTIL=20240827T000000;BYDAY=TU
END:VEVENT
END:VCALENDAR
