BEGIN:VCALENDAR
VERSION:2.0
PRODID:-//InvisionCommunity Events 5.0.18//EN
METHOD:PUBLISH
CALSCALE:GREGORIAN
REFRESH-INTERVAL:PT15M
X-PUBLISHED-TTL:PT15M
X-WR-CALNAME:Yorkshire and East Midlands
NAME:Yorkshire and East Midlands
BEGIN:VTIMEZONE
TZID:Europe/London
TZURL:https://tzurl.org/zoneinfo/Europe/London
X-LIC-LOCATION:Europe/London
BEGIN:DAYLIGHT
TZOFFSETFROM:+0000
TZOFFSETTO:+0100
TZNAME:BST
DTSTART:20240331T020000Z
RRULE:FREQ=YEARLY;BYMONTH=3;BYDAY=-1SU
END:DAYLIGHT
BEGIN:STANDARD
TZOFFSETFROM:+0100
TZOFFSETTO:+0000
TZNAME:GMT
DTSTART:20241027T020000Z
RRULE:FREQ=YEARLY;BYMONTH=10;BYDAY=-1SU
END:STANDARD
END:VTIMEZONE
BEGIN:VEVENT
SUMMARY:Yorks & E.Mids walks - Slingsby
DTSTAMP:20240410T185418Z
SEQUENCE:0
UID:8593-6-0712e666d78c35a5e0181a336d457050@bn.org.uk
ORGANIZER;CN="sarah7":notifications@bn.org.uk
DESCRIPTION:\n	Slingsby Naturist Walk – Sunday 09 June 2024\n\n\n\n	Jo
	in us for a 7.5 mile naturist walk starting at Slingsby\, North Yorkshire\
	, located 5 miles to the west of Malton.\n\n\n\n	The walk is undulating\, 
	with three moderate hills on public footpaths and bridleways\, passing thr
	ough grassland\, agricultural fields and open countryside\, with stunning 
	views of the Yorkshire Wolds before heading back to the start point across
	 open countryside.\n\n\n\n	The event is being organised by British Naturis
	m and is open to all members\, and others interested in naked walking. Whe
	n booking\, please state whether you are a member of British Naturism or a
	nother naturist group and provide your email address and mobile phone numb
	er.\n\n\n\n	For further information or to book onto the event\, contact Sa
	rah White via email: sarah.white@bn.org.uk . Details of the meeting point 
	and other information will be provided when your booking is confirmed.\n\n
	\n\n\n\n
DTSTART:20240609T100000Z
END:VEVENT
END:VCALENDAR
