BEGIN:VCALENDAR
VERSION:2.0
PRODID:-//InvisionCommunity Events 5.0.18//EN
METHOD:PUBLISH
CALSCALE:GREGORIAN
REFRESH-INTERVAL:PT15M
X-PUBLISHED-TTL:PT15M
X-WR-CALNAME:London and South East (LASER)
NAME:London and South East (LASER)
BEGIN:VTIMEZONE
TZID:Europe/London
TZURL:https://tzurl.org/zoneinfo/Europe/London
X-LIC-LOCATION:Europe/London
BEGIN:DAYLIGHT
TZOFFSETFROM:+0000
TZOFFSETTO:+0100
TZNAME:BST
DTSTART:20240331T020000Z
RRULE:FREQ=YEARLY;BYMONTH=3;BYDAY=-1SU
END:DAYLIGHT
BEGIN:STANDARD
TZOFFSETFROM:+0100
TZOFFSETTO:+0000
TZNAME:GMT
DTSTART:20241027T020000Z
RRULE:FREQ=YEARLY;BYMONTH=10;BYDAY=-1SU
END:STANDARD
END:VTIMEZONE
BEGIN:VEVENT
SUMMARY:Leonardslee Gardens Naked Heart Walk
DTSTAMP:20240401T185006Z
SEQUENCE:0
UID:8586-7-0712e666d78c35a5e0181a336d457050@bn.org.uk
ORGANIZER;CN="administrator":notifications@bn.org.uk
DESCRIPTION:\nA clothing-optional walk in the gardens at Leondardslee\, 
	near Horsham raising funds for the British Heart FoundationWalkers will be
	 supplied with a map of the site showing a variety of paths that can be us
	ed up to a distance of 5km. Most will walk in the picturesque valley featu
	ring a string of lakes via easy descents from the start point. A typical w
	alk would be circular around the string of lakes but there are other paths
	 to follow also. Buggy down to and up from valley available for those with
	 accessibility issues. Adjacent hotel grounds strictly out of bounds. Cafe
	 will be open throughout for personal purchases\n\n	Tickets for this event
	 are sold through Eventbrite. You will be able to purchase tickets from Ev
	entbrite by following the link below:\n	https://www.eventbrite.co.uk/e/leo
	nardslee-gardens-naked-heart-walk-tickets-875454827957\n\n
DTSTART:20240615T170000Z
DTEND:20240615T193000Z
END:VEVENT
END:VCALENDAR
