BEGIN:VCALENDAR
VERSION:2.0
PRODID:-//InvisionCommunity Events 5.0.18//EN
METHOD:PUBLISH
CALSCALE:GREGORIAN
REFRESH-INTERVAL:PT15M
X-PUBLISHED-TTL:PT15M
X-WR-CALNAME:Yorkshire and East Midlands
NAME:Yorkshire and East Midlands
BEGIN:VTIMEZONE
TZID:Europe/London
TZURL:https://tzurl.org/zoneinfo/Europe/London
X-LIC-LOCATION:Europe/London
BEGIN:DAYLIGHT
TZOFFSETFROM:+0000
TZOFFSETTO:+0100
TZNAME:BST
DTSTART:20240331T020000Z
RRULE:FREQ=YEARLY;BYMONTH=3;BYDAY=-1SU
END:DAYLIGHT
BEGIN:STANDARD
TZOFFSETFROM:+0100
TZOFFSETTO:+0000
TZNAME:GMT
DTSTART:20241027T020000Z
RRULE:FREQ=YEARLY;BYMONTH=10;BYDAY=-1SU
END:STANDARD
END:VTIMEZONE
BEGIN:VEVENT
SUMMARY:Himalayan Gardens Naked Heart Walk
DTSTAMP:20240317T182100Z
SEQUENCE:0
UID:8571-6-0712e666d78c35a5e0181a336d457050@bn.org.uk
ORGANIZER;CN="administrator":notifications@bn.org.uk
DESCRIPTION:\nJoin us for a scenic stroll through the Himalayan Gardens\
	, connecting with nature and each other in a clothing-optional experienceA
	 Naked Heart Walk through the beautiful gardens that surround Magnolia Lak
	e and further afield to include superb view from the vast surroundings. Sn
	acks and soft drinks will be available to purchase beside the lake.This ev
	ent is a joint venture with 2 regions of British Naturism combining to arr
	ange this fantastic event\, last year we had more than 80 Naturists attend
	ing a fabulous day to remember at this venue\, so we hope to expand on tha
	t in 2024. The event is clothes optional to enable non Naturist partners t
	o attend.Should you wish to set up a 'Just Giving' page which is directly 
	linked to the British Heart Foundation\, here is the link....www.justgivin
	g.com/create-page?charityID=183092&campaignGUID=ed1219df-965a-4bcd-98a0-1d
	6c71faf724&eventId=8875568&amp\;\n\n	Tickets for this event are sold throu
	gh Eventbrite. You will be able to purchase tickets from Eventbrite by fol
	lowing the link below:\n	https://www.eventbrite.co.uk/e/himalayan-gardens-
	naked-heart-walk-tickets-865066385847\n\n
DTSTART:20240629T150000Z
DTEND:20240629T180000Z
END:VEVENT
END:VCALENDAR
