BEGIN:VCALENDAR
VERSION:2.0
PRODID:-//InvisionCommunity Events 5.0.18//EN
METHOD:PUBLISH
CALSCALE:GREGORIAN
REFRESH-INTERVAL:PT15M
X-PUBLISHED-TTL:PT15M
X-WR-CALNAME:Yorkshire and East Midlands
NAME:Yorkshire and East Midlands
BEGIN:VTIMEZONE
TZID:Europe/London
TZURL:https://tzurl.org/zoneinfo/Europe/London
X-LIC-LOCATION:Europe/London
BEGIN:DAYLIGHT
TZOFFSETFROM:+0000
TZOFFSETTO:+0100
TZNAME:BST
DTSTART:20240331T020000Z
RRULE:FREQ=YEARLY;BYMONTH=3;BYDAY=-1SU
END:DAYLIGHT
BEGIN:STANDARD
TZOFFSETFROM:+0100
TZOFFSETTO:+0000
TZNAME:GMT
DTSTART:20241027T020000Z
RRULE:FREQ=YEARLY;BYMONTH=10;BYDAY=-1SU
END:STANDARD
END:VTIMEZONE
BEGIN:VEVENT
SUMMARY:Long weekend - Sherwood Forest Cabin
DTSTAMP:20240316T221313Z
SEQUENCE:0
UID:8548-6-0712e666d78c35a5e0181a336d457050@bn.org.uk
ORGANIZER;CN="ThomasLT":notifications@bn.org.uk
DESCRIPTION:\n	Who fancies doing a naked weekend in a cabin with a hot t
	ub\, sleeps 6\n\n\n\n	SHERWOOD FOREST 4th to 7th October \n\n\n\n	It’s
	 £919 so £153 per person from Friday to Monday- then we can all share fo
	od costs\, we can agree a few weeks before on food \n\n\n\n	If serious we
	 would need a deposit\, I can book the place \n\n\n\n	Three places left 
	 \n\n\n\n	Shaun and Tom\n\n\n\n	\n\n\n\n	 \n\n\n\n	\n\n
DTSTART;VALUE=DATE:20241004
DTEND;VALUE=DATE:20241008
END:VEVENT
END:VCALENDAR
