BEGIN:VCALENDAR
VERSION:2.0
PRODID:-//InvisionCommunity Events 5.0.18//EN
METHOD:PUBLISH
CALSCALE:GREGORIAN
REFRESH-INTERVAL:PT15M
X-PUBLISHED-TTL:PT15M
X-WR-CALNAME:North West
NAME:North West
BEGIN:VTIMEZONE
TZID:Europe/London
TZURL:https://tzurl.org/zoneinfo/Europe/London
X-LIC-LOCATION:Europe/London
BEGIN:DAYLIGHT
TZOFFSETFROM:+0000
TZOFFSETTO:+0100
TZNAME:BST
DTSTART:20240331T020000Z
RRULE:FREQ=YEARLY;BYMONTH=3;BYDAY=-1SU
END:DAYLIGHT
BEGIN:STANDARD
TZOFFSETFROM:+0100
TZOFFSETTO:+0000
TZNAME:GMT
DTSTART:20241027T020000Z
RRULE:FREQ=YEARLY;BYMONTH=10;BYDAY=-1SU
END:STANDARD
END:VTIMEZONE
BEGIN:VEVENT
SUMMARY:Naturist Visit to the Dorothy Clive Gardens
DTSTAMP:20240315T115836Z
SEQUENCE:0
UID:8544-5-0712e666d78c35a5e0181a336d457050@bn.org.uk
ORGANIZER;CN="john.rodgers":notifications@bn.org.uk
DESCRIPTION:\n	Naked Shropshire and the North West Region of British Nat
	urism are arranging an evening visit to the gardens\, which are near Marke
	t Drayton in Shropshire\,TF9 4EU on Wednesday 12th June from 18.00 – 20.
	30hrs. As in previous years tea and coffee will be on sale in the pavilion
	\, cash only please. You can also as in previous years take a picnic. Ther
	e are seats outside the cafe (closed) and elsewhere in the gardens. If you
	 have a non-Naturist partner they are welcome to come along too.\n\n	Advan
	ce tickets are cheaper BN members £13\, and non BN member £15. On the ga
	te (on the evening) prices (cash only no cards) are BN members £15\, and 
	non BN members £17.\n\n	\n\n	Ticket pricing and booking details are found
	 by clicking here.\n\n
DTSTART:20240612T170000Z
DTEND:20240612T193000Z
END:VEVENT
END:VCALENDAR
