BEGIN:VCALENDAR
VERSION:2.0
PRODID:-//InvisionCommunity Events 5.0.18//EN
METHOD:PUBLISH
CALSCALE:GREGORIAN
REFRESH-INTERVAL:PT15M
X-PUBLISHED-TTL:PT15M
X-WR-CALNAME:London and South East (LASER)
NAME:London and South East (LASER)
BEGIN:VTIMEZONE
TZID:Europe/London
TZURL:https://tzurl.org/zoneinfo/Europe/London
X-LIC-LOCATION:Europe/London
BEGIN:DAYLIGHT
TZOFFSETFROM:+0000
TZOFFSETTO:+0100
TZNAME:BST
DTSTART:20240331T020000Z
RRULE:FREQ=YEARLY;BYMONTH=3;BYDAY=-1SU
END:DAYLIGHT
BEGIN:STANDARD
TZOFFSETFROM:+0100
TZOFFSETTO:+0000
TZNAME:GMT
DTSTART:20241027T020000Z
RRULE:FREQ=YEARLY;BYMONTH=10;BYDAY=-1SU
END:STANDARD
END:VTIMEZONE
BEGIN:VEVENT
SUMMARY:Naked Dining and Skittles at The Mill Arms\, Dunbridge
DTSTAMP:20240311T122753Z
SEQUENCE:0
UID:8541-7-0712e666d78c35a5e0181a336d457050@bn.org.uk
ORGANIZER;CN="Colin Taylor":notifications@bn.org.uk
DESCRIPTION:\n	Join BN’s London and South East Regional team and the 
	Naturist Ramblers as we return to the Mill Arms in Dunbridge for an evenin
	g of dinner and skittles\n\n\n\n	We will have exclusive use of the functio
	n room at the pub. This is a fully self-contained area with its own bar an
	d toilets which means that it will be possible to be naked throughout the 
	event. Car parking is available behind the pub\, but it is only two minute
	s’ walk from Dunbridge &amp\; Mottisfont Station\, so why not leave the 
	car at home and enjoy a few drinks!\n\n\n\n	The meal is due for serving at
	 6pm although the venue will be open to us from 5pm  \n\n\n\n	The Mill Ar
	ms also has six rooms above the function room which can be booked alongsid
	e your ticket for the dinner. These are available on 12 and 13 June and in
	clude a full breakfast. Our host at the pub is happy for guests to remain 
	naked for breakfast should they wish\n\n\n\n	If you want to make the most 
	of your trip to Dunbridge\, don’t forget that there will also be a natur
	ist evening at the nearby Houghton Lodge gardens on Wednesday 12 June\, an
	d an 11-mile naturist walk leaving from the Mill Arms on 13 June\n\n\n\n	S
	hould you have any questions about this event\, please contact the event o
	rganiser Colin Taylor by email in the first instance. You can contact Coli
	n at colin.taylor@bn.org.uk\n\n\n\n	Once we have finalised menus and costs
	 we will announce the booking link for the BN shop for tickets. We are exp
	ecting ticket sales to open on Thursday 9 June. \n\n\n\n	Tickets now on s
	ale here: Mill Arms Tickets\n\n\nBN DINNER 13 JUNE 24.docx
DTSTART:20240613T170000Z
DTEND:20240613T213000Z
END:VEVENT
END:VCALENDAR
