BEGIN:VCALENDAR
VERSION:2.0
PRODID:-//InvisionCommunity Events 5.0.18//EN
METHOD:PUBLISH
CALSCALE:GREGORIAN
REFRESH-INTERVAL:PT15M
X-PUBLISHED-TTL:PT15M
X-WR-CALNAME:London and South East (LASER)
NAME:London and South East (LASER)
BEGIN:VTIMEZONE
TZID:Europe/London
TZURL:https://tzurl.org/zoneinfo/Europe/London
X-LIC-LOCATION:Europe/London
BEGIN:DAYLIGHT
TZOFFSETFROM:+0000
TZOFFSETTO:+0100
TZNAME:BST
DTSTART:20240331T020000Z
RRULE:FREQ=YEARLY;BYMONTH=3;BYDAY=-1SU
END:DAYLIGHT
BEGIN:STANDARD
TZOFFSETFROM:+0100
TZOFFSETTO:+0000
TZNAME:GMT
DTSTART:20241027T020000Z
RRULE:FREQ=YEARLY;BYMONTH=10;BYDAY=-1SU
END:STANDARD
END:VTIMEZONE
BEGIN:VEVENT
SUMMARY:Naturist Evening Visit to Houghton Lodge Gardens
DTSTAMP:20240311T120328Z
SEQUENCE:0
UID:8540-7-0712e666d78c35a5e0181a336d457050@bn.org.uk
ORGANIZER;CN="Colin Taylor":notifications@bn.org.uk
DESCRIPTION:\n	PLEASE NOTE - CHANGE OF DATE!\n\n\n\n	Due to a managerial
	 major error it transpires that Houghton Lodge are expecting us on Tuesday
	 11th June\, not Wednesday. Apologies to those who have it in their diary 
	for 12th. Please do not attend on 12th\, they have a non-naturist event on
	.\n\n\n\n	Sophie and her team at Houghton Lodge Gardens are delighted to w
	elcome BN members and other naturists back to enjoy a naturist evening\,
	 following successful events over the last few years.\n\n\n\n	The gardens 
	will open for naturist visitors from 5:30 p.m.\, and will remain open unti
	l 8:30 p.m. - entrance to the gardens will be priced at £10.50 per person
	. \n\n\n\n	Please note that this event is not directly organised by BN\,
	 so no pre-booking is required. You can simply pay on arrival using either
	 cash or card\n\n\n\n	The gardens themselves are a delightful mixture of f
	ormal planting and more natural settings\, and include direct access to th
	e banks of the River Test\n\n\n\n	There is ample parking available at the 
	gardens\, which are located close to Stockbridge in Hampshire. You can fin
	d more information about the gardens including directions on their websit
	e \n\n\n\n	Whilst the Houghton Lodge team are very supportive of naturism
	\, they ask that visitors remain dressed until they are inside the gardens
	 - there will be an area to undress and leave clothes inside the gardens. 
	Thanks for your understanding on this point\n\n\n\n	Non naturist friends a
	nd partners are also welcome at the event\, providing of course that they 
	are respectful of naturist visitors at all times\n\n\n\n	Unfortunately\, f
	ollowing a change in catering company the tea room at Houghton Lodge will 
	NOT be open on the evening. We are organising some hot and cold drinks to 
	be available but suggest you may like to bring your own picnic this time.\
	n\n\n\n	Please feel free to contact @Colin Taylor by PM or at Colin.tayl
	or@bn.org.uk for more information \n\n\n\n	There will also be a a NatRam 
	walk on Tuesday 11 June\, a BN-led joint NatRam naturist walk and dinner a
	nd skittles evening on 13 June - you might want to make a longer trip and 
	join all four events!\n\n
DTSTART:20240611T163000Z
DTEND:20240611T193000Z
END:VEVENT
END:VCALENDAR
