BEGIN:VCALENDAR
VERSION:2.0
PRODID:-//InvisionCommunity Events 5.0.18//EN
METHOD:PUBLISH
CALSCALE:GREGORIAN
REFRESH-INTERVAL:PT15M
X-PUBLISHED-TTL:PT15M
X-WR-CALNAME:International
NAME:International
BEGIN:VTIMEZONE
TZID:Europe/London
TZURL:https://tzurl.org/zoneinfo/Europe/London
X-LIC-LOCATION:Europe/London
BEGIN:DAYLIGHT
TZOFFSETFROM:+0000
TZOFFSETTO:+0100
TZNAME:BST
DTSTART:20240331T020000Z
RRULE:FREQ=YEARLY;BYMONTH=3;BYDAY=-1SU
END:DAYLIGHT
BEGIN:STANDARD
TZOFFSETFROM:+0100
TZOFFSETTO:+0000
TZNAME:GMT
DTSTART:20241027T020000Z
RRULE:FREQ=YEARLY;BYMONTH=10;BYDAY=-1SU
END:STANDARD
END:VTIMEZONE
BEGIN:VEVENT
SUMMARY:INF Swimming Gala in Le Havre
DTSTAMP:20240306T130127Z
SEQUENCE:0
UID:8534-9-0712e666d78c35a5e0181a336d457050@bn.org.uk
ORGANIZER;CN="Anne.Nisbet":notifications@bn.org.uk
DESCRIPTION:\n	Anyone who attends this years National Swimming Gala in W
	atford on 20th April (upto 42 swimmers)\, can swim for your country and fe
	deration at the International Swimming Gala\, in Le Havre.\n\n
DTSTART;VALUE=DATE:20241025
DTEND;VALUE=DATE:20241028
END:VEVENT
END:VCALENDAR
