BEGIN:VCALENDAR
VERSION:2.0
PRODID:-//InvisionCommunity Events 5.0.18//EN
METHOD:PUBLISH
CALSCALE:GREGORIAN
REFRESH-INTERVAL:PT15M
X-PUBLISHED-TTL:PT15M
X-WR-CALNAME:International
NAME:International
BEGIN:VTIMEZONE
TZID:Europe/London
TZURL:https://tzurl.org/zoneinfo/Europe/London
X-LIC-LOCATION:Europe/London
BEGIN:DAYLIGHT
TZOFFSETFROM:+0000
TZOFFSETTO:+0100
TZNAME:BST
DTSTART:20240331T020000Z
RRULE:FREQ=YEARLY;BYMONTH=3;BYDAY=-1SU
END:DAYLIGHT
BEGIN:STANDARD
TZOFFSETFROM:+0100
TZOFFSETTO:+0000
TZNAME:GMT
DTSTART:20241027T020000Z
RRULE:FREQ=YEARLY;BYMONTH=10;BYDAY=-1SU
END:STANDARD
END:VTIMEZONE
BEGIN:VEVENT
SUMMARY:Naked Golf ... virtually
DTSTAMP:20240303T123302Z
SEQUENCE:0
UID:8528-9-0712e666d78c35a5e0181a336d457050@bn.org.uk
ORGANIZER;CN="Steve Froggatt":notifications@bn.org.uk
DESCRIPTION:\n	Stacey Bushes Milton Keynes 5pm to 9pm\n\n\n\n	Yes\, it
	’s back for the second-year running come and join us for Virtual golf\, 
	food and a bar all under one roof and we have the whole building.\n\n\n\n	
	Using the best technology\, we will play a nine-hole golf course\, while h
	aving a bite to eat (a cold Buffet) and a few drinks (additional cost from
	 the bar) subject to time play some golf fun games\, nearest the flag etc.
	\n\n\n\n	This is for beginners and seasoned golf pros the courses can be s
	et to all abilities\, this is a four-hour social event you can’t miss\n\
	n\n\n	No Rain\, No clubs to carry\, No walking\, there is a small bar on s
	ite offering Alcoholic and Non-alcoholic drinks including tea and coffee\n
	\n\n\n	We have exclusive use from 5pm to 9pm we have total privacy and a r
	ear fire exit will be available for anyone who wishes to leave early\n\n\n
	\n	The ticket price includes use of the golf simulators and a cold buffet 
	of Sandwiches and finger bites\n\n\n\n	Prices per person\n\n\n\n	BN Member
	s £38 Non-Members £45\n\n\n\n	Supporters £25\, (Must accompany a pla
	yer and booked at the same time) includes cold buffet.\n\n\n\n	Food allerg
	ies or dietary requirements please inform Ian Munt at the time of bookin
	g  ian.munt@bn.org.uk\n\n\n\n	We only have limited spaces so please book
	 early to secure\, this is a first for a BN event so come and enjoy an eve
	ning of fun. The photos are of the Venue.\n\n\n\n	Travel\n\n\n\n	The event
	 is 2.5 miles from Milton Keynes Central station and the Aviva No 6 (stop 
	Z3) Bus stops a 4 min walk away from the venue.\n\n\n\n	Parking available 
	at the venue also\n\n\n\n	The event is non-cancellable and no one will be 
	accepted without a booking and holding a ticket.\n\n\n\n	Tickets are avail
	able at here at the BN shop.\n\n
DTSTART:20241012T160000Z
DTEND:20241012T200000Z
END:VEVENT
END:VCALENDAR
