BEGIN:VCALENDAR
VERSION:2.0
PRODID:-//InvisionCommunity Events 5.0.18//EN
METHOD:PUBLISH
CALSCALE:GREGORIAN
REFRESH-INTERVAL:PT15M
X-PUBLISHED-TTL:PT15M
X-WR-CALNAME:Eastern
NAME:Eastern
BEGIN:VTIMEZONE
TZID:Europe/London
TZURL:https://tzurl.org/zoneinfo/Europe/London
X-LIC-LOCATION:Europe/London
BEGIN:DAYLIGHT
TZOFFSETFROM:+0000
TZOFFSETTO:+0100
TZNAME:BST
DTSTART:20260329T020000Z
RRULE:FREQ=YEARLY;BYMONTH=3;BYDAY=-1SU
END:DAYLIGHT
BEGIN:STANDARD
TZOFFSETFROM:+0100
TZOFFSETTO:+0000
TZNAME:GMT
DTSTART:20261025T020000Z
RRULE:FREQ=YEARLY;BYMONTH=10;BYDAY=-1SU
END:STANDARD
END:VTIMEZONE
BEGIN:VEVENT
SUMMARY:Wendover Naturist Walk Saturday 10th October 2026
DTSTAMP:20240221T191628Z
SEQUENCE:0
UID:8501-8-0712e666d78c35a5e0181a336d457050@bn.org.uk
ORGANIZER;CN="Andrew Roch":notifications@bn.org.uk
DESCRIPTION:Join us for a 7 mile naturist walk event starting at/retur
	ning to Wendover\, including part of the Chiltern Hills.  Saturday 10th 
	October 2026\, 12.30 to 5.00pm.Start/Finish point is accessible by train t
	o Wendover Station on the Chiltern Line (London Marylebone to Aylesbury Va
	le Parkway via Amersham).Starting at the market town of Wendover\, we proc
	eed on local footpaths to Bacombe Hill Wood.  The walk is mainly through
	 woodland with some open country\, along mostly flat terrain with some sli
	ght to moderate hills as we approach the village of Dunsmore on the Hill a
	nd then mainly downhill across open countryside back to Wendover.The event
	 is being organised by British Naturism Eastern Region in association with
	 the Milton Keynes Naturist Meet and Greet Group.  It is open to all mem
	bers of British Naturism and other naturist (walking) groups\; anyone new 
	to naturism or to naturist walking is welcome too.  When booking\, pleas
	e state whether you are a member of BN or other naturist groups.For furt
	her information please contact Andrew and Amanda Roch\, Walks Coordinator\
	, via email: easternwalks@bn.org.uk Joining details will be provided pri
	or to the walk to those who have registered and after the walk recce has b
	een completed. To register please complete the form which can be found her
	e. (If you are not able to complete the form please email me giving your n
	ame and mobile number)Register here
DTSTART:20261010T113000Z
END:VEVENT
END:VCALENDAR
