BEGIN:VCALENDAR
VERSION:2.0
PRODID:-//InvisionCommunity Events 5.0.18//EN
METHOD:PUBLISH
CALSCALE:GREGORIAN
REFRESH-INTERVAL:PT15M
X-PUBLISHED-TTL:PT15M
X-WR-CALNAME:Eastern
NAME:Eastern
BEGIN:VTIMEZONE
TZID:Europe/London
TZURL:https://tzurl.org/zoneinfo/Europe/London
X-LIC-LOCATION:Europe/London
BEGIN:DAYLIGHT
TZOFFSETFROM:+0000
TZOFFSETTO:+0100
TZNAME:BST
DTSTART:20250330T020000Z
RRULE:FREQ=YEARLY;BYMONTH=3;BYDAY=-1SU
END:DAYLIGHT
BEGIN:STANDARD
TZOFFSETFROM:+0100
TZOFFSETTO:+0000
TZNAME:GMT
DTSTART:20251026T020000Z
RRULE:FREQ=YEARLY;BYMONTH=10;BYDAY=-1SU
END:STANDARD
END:VTIMEZONE
BEGIN:VEVENT
SUMMARY:Thetford Forest Naturist Walk Saturday 23rd August 2025
DTSTAMP:20240221T191004Z
SEQUENCE:0
UID:8500-8-0712e666d78c35a5e0181a336d457050@bn.org.uk
ORGANIZER;CN="Andrew Roch":notifications@bn.org.uk
DESCRIPTION:\n	The Thetford area walk will take place generally in the f
	orest area and will be about 8 miles in length although short cuts will be
	 possible for those wishing to undertake a shorter walk. The walk is mainl
	y on flat ground and is quite an easy walk. If you would like any addition
	al information please email Andrew and Amanda Roch at easternwalks@bn.org.
	uk.\n\n\n\n	Full joining instructions will be provided by email a few days
	 before the walk to those who have registered and after the walk recce has
	 been completed. To register please complete the form which can be found h
	ere. (If you are unable to complete the form please send me an email with 
	your name and mobile number.)\n\n\n\n	Register Here\n\n
DTSTART:20250823T113000Z
END:VEVENT
END:VCALENDAR
