BEGIN:VCALENDAR
VERSION:2.0
PRODID:-//InvisionCommunity Events 5.0.18//EN
METHOD:PUBLISH
CALSCALE:GREGORIAN
REFRESH-INTERVAL:PT15M
X-PUBLISHED-TTL:PT15M
X-WR-CALNAME:Eastern
NAME:Eastern
BEGIN:VTIMEZONE
TZID:Europe/London
TZURL:https://tzurl.org/zoneinfo/Europe/London
X-LIC-LOCATION:Europe/London
BEGIN:DAYLIGHT
TZOFFSETFROM:+0000
TZOFFSETTO:+0100
TZNAME:BST
DTSTART:20260329T020000Z
RRULE:FREQ=YEARLY;BYMONTH=3;BYDAY=-1SU
END:DAYLIGHT
BEGIN:STANDARD
TZOFFSETFROM:+0100
TZOFFSETTO:+0000
TZNAME:GMT
DTSTART:20261025T020000Z
RRULE:FREQ=YEARLY;BYMONTH=10;BYDAY=-1SU
END:STANDARD
END:VTIMEZONE
BEGIN:VEVENT
SUMMARY:Steeple Claydon Naturist Walk Friday 12th June 2026
DTSTAMP:20240221T185016Z
SEQUENCE:0
UID:8496-8-0712e666d78c35a5e0181a336d457050@bn.org.uk
ORGANIZER;CN="Andrew Roch":notifications@bn.org.uk
DESCRIPTION:Join us for a 6 mile naturist walk starting at/returning to
	 Steeple Claydon\, Buckinghamshire\, through the Vale of Aylesbury.  
	Friday 12 June 2026\, 12.30pm to 4.30pm.The walk is mainly flat passing th
	rough grassland\, agricultural fields and open countryside.  The mainly 
	circular route follows a network of public footpaths through part of the V
	ale of Aylesbury before heading back to the start point across open countr
	yside.The event is being organised by British Naturism Eastern Region in a
	ssociation with the Milton Keynes Naturist Meet and Greet Group.  It is 
	open to all members of British Naturism and other naturist (walking) group
	s\; anyone new to naturism or to naturist walking is welcome too.  When 
	booking\, please state whether you are a member of BN or other naturist 
	groups.For further information please contact Andrew and Amanda Roch\, Wal
	ks Coordinator\, via email: easternwalks@bn.org.uk . Joining details wil
	l be sent out prior to the walk date to those who have registered after th
	e walk recce has been completed. To register please complete the form whic
	h can be found here. (If you are unable to complete the form please email 
	me with your name and mobile number.Register Here
DTSTART:20260612T113000Z
END:VEVENT
END:VCALENDAR
