BEGIN:VCALENDAR
VERSION:2.0
PRODID:-//InvisionCommunity Events 5.0.18//EN
METHOD:PUBLISH
CALSCALE:GREGORIAN
REFRESH-INTERVAL:PT15M
X-PUBLISHED-TTL:PT15M
X-WR-CALNAME:Eastern
NAME:Eastern
BEGIN:VTIMEZONE
TZID:Europe/London
TZURL:https://tzurl.org/zoneinfo/Europe/London
X-LIC-LOCATION:Europe/London
BEGIN:DAYLIGHT
TZOFFSETFROM:+0000
TZOFFSETTO:+0100
TZNAME:BST
DTSTART:20250330T020000Z
RRULE:FREQ=YEARLY;BYMONTH=3;BYDAY=-1SU
END:DAYLIGHT
BEGIN:STANDARD
TZOFFSETFROM:+0100
TZOFFSETTO:+0000
TZNAME:GMT
DTSTART:20251026T020000Z
RRULE:FREQ=YEARLY;BYMONTH=10;BYDAY=-1SU
END:STANDARD
END:VTIMEZONE
BEGIN:VEVENT
SUMMARY:Little Brickhill/Woburn Naturist Walk - Saturday 31st May 20
	25
DTSTAMP:20240221T180327Z
SEQUENCE:0
UID:8492-8-0712e666d78c35a5e0181a336d457050@bn.org.uk
ORGANIZER;CN="Andrew Roch":notifications@bn.org.uk
DESCRIPTION:\n	Join us for a 7 mile naturist walk event starting at/re
	turning to Little Brickhill\, including part of the Greensand Ridge and th
	e Milton Keynes Boundary walk.  Saturday 31st May 2025\, 12.30 to 4.30pm
	.\n\n\n\n	Start/Finish point is accessible only by car so please car share
	 if possible.\n\n\n\n	Starting at the village of Little Brickhill\, we pro
	ceed along the Greensand Ridge Walk in the direction of Woburn. After a st
	retch of road which will require a cover up\, the walk continues through 
	open country and woodlands\, with undulating ground.\n\n\n\n	The event is 
	being organised by British Naturism Eastern Region in association with the
	 Milton Keynes Naturist Meet and Greet Group.  It is open to all members
	 of British Naturism and other naturist (walking) groups\; anyone new to n
	aturism or to naturist walking is welcome too.  When booking\, please st
	ate whether you are a member of BN or other naturist groups.\n\n\n\n	For
	 further information please contact Andrew and Amanda Roch\, Walks Coordin
	ator\, via email: easternwalks@bn.org.uk giving your name\, mobile phone
	 number and membership status.  Details of the meeting point and other i
	nformation will be provided to registered participants after the walk recc
	e has been completed. Please register by completing the form which can be 
	found here. (If you are unable to complete the form then please email me w
	ith your name and mobile number)\n\n\n\n	Register Here\n\n
DTSTART:20250531T113000Z
END:VEVENT
END:VCALENDAR
