BEGIN:VCALENDAR
VERSION:2.0
PRODID:-//InvisionCommunity Events 5.0.18//EN
METHOD:PUBLISH
CALSCALE:GREGORIAN
REFRESH-INTERVAL:PT15M
X-PUBLISHED-TTL:PT15M
X-WR-CALNAME:Eastern
NAME:Eastern
BEGIN:VTIMEZONE
TZID:Europe/London
TZURL:https://tzurl.org/zoneinfo/Europe/London
X-LIC-LOCATION:Europe/London
BEGIN:DAYLIGHT
TZOFFSETFROM:+0000
TZOFFSETTO:+0100
TZNAME:BST
DTSTART:20260329T020000Z
RRULE:FREQ=YEARLY;BYMONTH=3;BYDAY=-1SU
END:DAYLIGHT
BEGIN:STANDARD
TZOFFSETFROM:+0100
TZOFFSETTO:+0000
TZNAME:GMT
DTSTART:20261025T020000Z
RRULE:FREQ=YEARLY;BYMONTH=10;BYDAY=-1SU
END:STANDARD
END:VTIMEZONE
BEGIN:VEVENT
SUMMARY:Horningsea\, Stow-Cum_Quy Naturist Walk and Picnic
DTSTAMP:20240221T150739Z
SEQUENCE:0
UID:8487-8-0712e666d78c35a5e0181a336d457050@bn.org.uk
ORGANIZER;CN="Andrew Roch":notifications@bn.org.uk
DESCRIPTION:Join us for this six mile walk (or couple of mile walk inclu
	ding a picnic) between the villages of Horningsea\, Stow-Cum-Quy and Lode.
	 The walk is on flat terrain and crosses Quy Fen which is the only bit of 
	woodland. The remainder of the walk is across open countryside and along a
	 river bank.Although this is an easy walk you need to be aware that the Qu
	y Fen has a notice which states \"No Nudity\" which of course has no legal
	 standing and it seems is a \"sledge hammer\" attempt to prohibit other il
	legal activities that have taken place there in the past. There is a sligh
	t risk that we might meet with some resistance in that area but the police
	 will have been made aware of our intended walk well in advance. There wer
	e no issues last year and was one of the few walks that was completed with
	out cover-up.The event is being organised by British Naturism Eastern Regi
	on in association with the Milton Keynes Naturist Meet and Greet Group. 
	 It is open to all members of British Naturism and other naturist (walkin
	g) groups\; anyone new to naturism or to naturist walking is welcome too.
	  When booking\, please state whether you are a member of BN or other 
	naturist groups.For those preferring a shorter walk and a picnic please en
	sure that you bring your own food and refreshments and something waterproo
	f to sit on. The total distance to and from the Picnic site is 4km (just u
	nder two km to get there and just over to get back via a slightly differen
	t route. The picnic/lunch stop is in the main pictureFor further informati
	on please contact Andrew and Amanda Roch\, Walks Coordinator\, via email:
	 easternwalks@bn.org.uk Full details of the walk will be provided after 
	registration and the walk recce has been completed.  If you would like t
	o register for this walk please complete the form which can be found here.
	 (If you are unable to complete the form please send me an email with your
	 name and mobile number)Register Here
DTSTART:20260523T113000Z
END:VEVENT
END:VCALENDAR
