BEGIN:VCALENDAR
VERSION:2.0
PRODID:-//InvisionCommunity Events 5.0.18//EN
METHOD:PUBLISH
CALSCALE:GREGORIAN
REFRESH-INTERVAL:PT15M
X-PUBLISHED-TTL:PT15M
X-WR-CALNAME:Eastern
NAME:Eastern
BEGIN:VTIMEZONE
TZID:Europe/London
TZURL:https://tzurl.org/zoneinfo/Europe/London
X-LIC-LOCATION:Europe/London
BEGIN:DAYLIGHT
TZOFFSETFROM:+0000
TZOFFSETTO:+0100
TZNAME:BST
DTSTART:20260329T020000Z
RRULE:FREQ=YEARLY;BYMONTH=3;BYDAY=-1SU
END:DAYLIGHT
BEGIN:STANDARD
TZOFFSETFROM:+0100
TZOFFSETTO:+0000
TZNAME:GMT
DTSTART:20261025T020000Z
RRULE:FREQ=YEARLY;BYMONTH=10;BYDAY=-1SU
END:STANDARD
END:VTIMEZONE
BEGIN:VEVENT
SUMMARY:Christmas Common Naturist Walk Friday 19th June 2026
DTSTAMP:20240221T144025Z
SEQUENCE:0
UID:8484-8-0712e666d78c35a5e0181a336d457050@bn.org.uk
ORGANIZER;CN="Andrew Roch":notifications@bn.org.uk
DESCRIPTION:Join us for a 7-8 mile circular naturist walk starting at/re
	turning to Christmas Common\, near Watlington\, Oxfordshire including sect
	ions of the Chiltern Way and open access land.  Friday 19th June 2026\, 
	12.30pm to 5.30pm.This is quite a demanding walk with significant inclines
	 at several places.   The route starts from a National Trust Car Park (p
	ayment required unless a NT Member)  passing over open access land with w
	onderful views and several beech woods\, back to a finish at a pub near th
	e start point or alternatively straight back to the car park. Part of the
	 route is unavoidably along a stretch of road and with two hamlets en rou
	te some covering will be required.The event is being organised by British 
	Naturism Eastern Region in association with the Milton Keynes Naturist Mee
	t and Greet Group.  It is open to all members of British Naturism and ot
	her naturist (walking) groups\; anyone new to naturism or to naturist walk
	ing is welcome too.  When booking\, please state whether you are a membe
	r of BN or other naturist groups. You must be fit enough to walk up to 
	eight miles\, including a number of moderate hills.   For further infor
	mation please contact Andrew and Amanda Roch\, Walks Coordinator\, via ema
	il: easternwalks@bn.org.uk giving your name\, mobile phone number and me
	mbership status.  Details of the meeting point and other information wil
	l be provided when your booking is confirmed and the walk recce completed.
	 To register please complete the form which can be accessed here. (If you
	 are unable to complete the form please just send me an email giving your 
	name and mobile number)Register Here
DTSTART:20260619T113000Z
END:VEVENT
END:VCALENDAR
