BEGIN:VCALENDAR
VERSION:2.0
PRODID:-//InvisionCommunity Events 5.0.18//EN
METHOD:PUBLISH
CALSCALE:GREGORIAN
REFRESH-INTERVAL:PT15M
X-PUBLISHED-TTL:PT15M
X-WR-CALNAME:Eastern
NAME:Eastern
BEGIN:VTIMEZONE
TZID:Europe/London
TZURL:https://tzurl.org/zoneinfo/Europe/London
X-LIC-LOCATION:Europe/London
BEGIN:DAYLIGHT
TZOFFSETFROM:+0000
TZOFFSETTO:+0100
TZNAME:BST
DTSTART:20240331T020000Z
RRULE:FREQ=YEARLY;BYMONTH=3;BYDAY=-1SU
END:DAYLIGHT
BEGIN:STANDARD
TZOFFSETFROM:+0100
TZOFFSETTO:+0000
TZNAME:GMT
DTSTART:20241027T020000Z
RRULE:FREQ=YEARLY;BYMONTH=10;BYDAY=-1SU
END:STANDARD
END:VTIMEZONE
BEGIN:VEVENT
SUMMARY:Rosslyn Glamping and Camping Clothing Optional Week
DTSTAMP:20240218T092151Z
SEQUENCE:0
UID:8458-8-0712e666d78c35a5e0181a336d457050@bn.org.uk
ORGANIZER;CN="Claire.Andrew":notifications@bn.org.uk
DESCRIPTION:\n	As we have done in previous years\, Rosslyn Glamping is o
	pening for a clothing optional week. Situated in North Norfolk we are a wo
	odland glamping site\; three shepherds huts and one boat. We also have are
	as for motorhomes\, campervans\, caravans or tents. Toilet/shower block. H
	eated outdoor swimming pool and sunny lawn for sun bathing. We now have a 
	room with fridge/freezer\, washing up facilities and wet weather use. Even
	ing camp fires\, social events/trips out organised by visitors.\n\n\n\n	Pl
	ease contact Andrew or Claire for further information: rosslynglamping@gma
	il.com or 07785714277 Andrew\, 07799722485 Claire\n\n
DTSTART;VALUE=DATE:20240906
DTEND;VALUE=DATE:20240916
END:VEVENT
END:VCALENDAR
