BEGIN:VCALENDAR
VERSION:2.0
PRODID:-//InvisionCommunity Events 5.0.18//EN
METHOD:PUBLISH
CALSCALE:GREGORIAN
REFRESH-INTERVAL:PT15M
X-PUBLISHED-TTL:PT15M
X-WR-CALNAME:London and South East (LASER)
NAME:London and South East (LASER)
BEGIN:VTIMEZONE
TZID:Europe/London
TZURL:https://tzurl.org/zoneinfo/Europe/London
X-LIC-LOCATION:Europe/London
BEGIN:DAYLIGHT
TZOFFSETFROM:+0000
TZOFFSETTO:+0100
TZNAME:BST
DTSTART:20240331T020000Z
RRULE:FREQ=YEARLY;BYMONTH=3;BYDAY=-1SU
END:DAYLIGHT
BEGIN:STANDARD
TZOFFSETFROM:+0100
TZOFFSETTO:+0000
TZNAME:GMT
DTSTART:20241027T020000Z
RRULE:FREQ=YEARLY;BYMONTH=10;BYDAY=-1SU
END:STANDARD
END:VTIMEZONE
BEGIN:VEVENT
SUMMARY:Dover Naturist Swim | Dover Leisure Centre | 18 February 202
	4
DTSTAMP:20240215T150208Z
SEQUENCE:0
UID:8436-7-0712e666d78c35a5e0181a336d457050@bn.org.uk
ORGANIZER;CN="Alana":notifications@bn.org.uk
DESCRIPTION:\n	The Dover Swim is back !!\n\n\n\n	The first swim will tak
	e place at 8:30pm at the new Dover Leisure Centre\, Fitness Fields\, Whitf
	ield\, Dover CT16 3FZ.  Please arrive between 8:00 - 8:15pm as you will b
	e able to enter as soon as the changing rooms are clear.  \n\n\n\n	Member
	s will have the full use of the facilities including the pool\, sauna and 
	steam room. The swim is open to all on production a means of identificatio
	n eg British Naturism membership card\, driving licence etc.\n\n\n\n	The c
	ost is £7 per person plus a £5 per annum club membership fee.  Tickets 
	can be purchased on the door.\n\n\n\n	If you are within traveling distance
	 of Dover\, and would like to come along\, please contact the organiser 
	Rod Baker doverswim@hotmail.com\; 07772 086757 if you would like to ask 
	any questions\n\n\n\n	Facilities: Swimming Pool\, Sauna\, Steam Room\n\n\n
	\n	What3Words: ///analogy.rigid.apple\n\n
DTSTART:20240218T203000Z
END:VEVENT
END:VCALENDAR
