BEGIN:VCALENDAR
VERSION:2.0
PRODID:-//InvisionCommunity Events 5.0.18//EN
METHOD:PUBLISH
CALSCALE:GREGORIAN
REFRESH-INTERVAL:PT15M
X-PUBLISHED-TTL:PT15M
X-WR-CALNAME:London and South East (LASER)
NAME:London and South East (LASER)
BEGIN:VTIMEZONE
TZID:Europe/London
TZURL:https://tzurl.org/zoneinfo/Europe/London
X-LIC-LOCATION:Europe/London
BEGIN:DAYLIGHT
TZOFFSETFROM:+0000
TZOFFSETTO:+0100
TZNAME:BST
DTSTART:20240331T020000Z
RRULE:FREQ=YEARLY;BYMONTH=3;BYDAY=-1SU
END:DAYLIGHT
BEGIN:STANDARD
TZOFFSETFROM:+0100
TZOFFSETTO:+0000
TZNAME:GMT
DTSTART:20241027T020000Z
RRULE:FREQ=YEARLY;BYMONTH=10;BYDAY=-1SU
END:STANDARD
END:VTIMEZONE
BEGIN:VEVENT
SUMMARY:Blue Lagoon with ESN
DTSTAMP:20240214T150930Z
SEQUENCE:0
UID:8434-7-0712e666d78c35a5e0181a336d457050@bn.org.uk
ORGANIZER;CN="alanpeill1951":notifications@bn.org.uk
DESCRIPTION:\n	East Sussex Naturists invites you to enjoy the warm water
	 pools of the Blue Lagoon Eastbourne.\n\n\n\n	\n\n\n\n	 \n\n\n\n	A few pl
	aces still available.\n\n\n\n	ACCESS   \n\n\n\n	Sorry\, there is no hoi
	st. Those unable to go up and down the pool steps without a hoist will not
	 be able to use the pools currently.\n\n\n\n	The rest of the centre is ver
	y disabled friendly with wide corridors\, gentle ramps\, disabled toilets 
	and disabled reception desk.\n\n\n\n	If you are uncertain please get in co
	ntact with Blue Lagoon and  a one-to-one appraisal of suitability for you
	 can be arranged.\n\n\n\n	Payment of £11.00 in advance to the club accoun
	t. Please contact Alan for further information: alanpeill@yahoo.com  0748
	6 424068.\n\n\n\n	Information on the venue at  https://eastbourne.bluela
	gooncentres.com/\n\n\n\n	\n\n\n\n	 \n\n
DTSTART:20240314T190000Z
DTEND:20240314T203000Z
END:VEVENT
END:VCALENDAR
