BEGIN:VCALENDAR
VERSION:2.0
PRODID:-//InvisionCommunity Events 5.0.18//EN
METHOD:PUBLISH
CALSCALE:GREGORIAN
REFRESH-INTERVAL:PT15M
X-PUBLISHED-TTL:PT15M
X-WR-CALNAME:London and South East (LASER)
NAME:London and South East (LASER)
BEGIN:VTIMEZONE
TZID:Europe/London
TZURL:https://tzurl.org/zoneinfo/Europe/London
X-LIC-LOCATION:Europe/London
BEGIN:DAYLIGHT
TZOFFSETFROM:+0000
TZOFFSETTO:+0100
TZNAME:BST
DTSTART:20240331T020000Z
RRULE:FREQ=YEARLY;BYMONTH=3;BYDAY=-1SU
END:DAYLIGHT
BEGIN:STANDARD
TZOFFSETFROM:+0100
TZOFFSETTO:+0000
TZNAME:GMT
DTSTART:20241027T020000Z
RRULE:FREQ=YEARLY;BYMONTH=10;BYDAY=-1SU
END:STANDARD
END:VTIMEZONE
BEGIN:VEVENT
SUMMARY:High Beeches Garden
DTSTAMP:20240206T131824Z
SEQUENCE:0
UID:8422-7-0712e666d78c35a5e0181a336d457050@bn.org.uk
ORGANIZER;CN="alanpeill1951":notifications@bn.org.uk
DESCRIPTION:\n	With 27 acres of woodland\, water gardens\, and a collect
	ion of rare\, exotic and award-winning plants\, High Beeches Garden is one
	 of Sussex's finest gardens and is home to a plant collection that include
	s specimens from many parts of the world. It's a hidden gem in the High We
	ald of West Sussex. A botanical treasure trove and classic English idyll m
	ake it one of the most wonderful woodland gardens in the South East.\n\n\n
	\n	No advance booking. The garden will be open exclusively for naturists.
	  Non-naturist partners/friends welcome.  Please undress in the carpark.
	\n\n\n\n	Accessibility\n\n	Please be aware that High Beeches is a woodland
	 garden and the paths throughout are unmade and uneven. They are also slop
	ing in places and can be slippery when wet\, wheelchairs are not recommend
	ed.\n\n\n\n	Disabled parking bays and toilet are available. There are benc
	hes situated throughout the garden. Please ensure you wear appropriate foo
	twear\, as paths can be slippery when wet.\n\n\n\n	Admission £10.00  (ca
	rd payment preferred).  Ice creams\, home-made cakes\, hot and cold drink
	s available. \n\n\n\n	\n\n\n\n	Further information 07486  424068.   Ga
	rdens website  https://www.highbeeches.com/\n\n\n\n	(photo credit: Malco
	lm Beakhust)\n\n
DTSTART:20240706T161500Z
DTEND:20240706T193000Z
END:VEVENT
END:VCALENDAR
